FILENAME: O4710730.SWS.1114969.tif
QUADRANGLE_NAME: CHALK BUTTE
QUADRANT: SW
WEST_LONGITUDE: -107 22 30.00000
EAST_LONGITUDE: -107 18 45.00000
NORTH_LATITUDE: 47 33 45.00000
SOUTH_LATITUDE: 47 30 0.00000
PRODUCTION_DATE: 2000 11 9
RASTER_ORDER: LEFT_RIGHT/TOP_BOTTOM
BAND_ORGANIZATION: SINGLE FILE
BAND_CONTENT: BLACK&WHITE
BAND_CONTENT: UNDEFINED
BAND_CONTENT: UNDEFINED
BITS_PER_PIXEL: 8
SAMPLES_AND_LINES: 5565 7693
HORIZONTAL_DATUM: NAD83
HORIZONTAL_COORDINATE_SYSTEM: UTM
COORDINATE_ZONE: 13
HORIZONTAL_UNITS: METERS
HORIZONTAL_RESOLUTION: 1.00000
SECONDARY_HORIZONTAL_DATUM: NAD27
XY_ORIGIN: 320785.00000 5270712.00000
SECONDARY_XY_ORIGIN: 320828.25600 5270491.47700
NATION: US
NATION: "SCIENCE
STATE: MT
NW_QUAD_CORNER_XY: 321347.50300 5270409.18300
NE_QUAD_CORNER_XY: 326048.65600 5270267.17900
SE_QUAD_CORNERY_XY: 325841.76000 5263321.62800
SW_QUAD_CORNER_XY: 321135.01000 5263463.65900
SECONDARY_NW_QUAD_XY: 321341.93100 5270190.51300
SECONDARY_NE_QUAD_XY: 326043.23000 5270048.50400
SECONDARY_SE_QUAD_XY: 325836.33600 5263102.97400
SECONDARY_SW_QUAD_XY: 321129.43900 5263245.00900
RMSE_XY: 2.70000
IMAGE_SOURCE: BLACK AND WHITE FILM
SOURCE_IMAGE_ID: NAPP 9127 067
SOURCE_IMAGE_DATE: 1996 07 15
SOURCE_IMAGE_ID: NAPP 9127 155
SOURCE_IMAGE_DATE: 1996 07 15
SOURCE_IMAGE_ID: NAPP 9127 066
SOURCE_IMAGE_DATE: 1996 07 15
SOURCE_IMAGE_ID: NAPP 9127 068
SOURCE_IMAGE_DATE: 1996 07 15
SOURCE_DEM_DATE: 1982 00 00
AGENCY: WESTERN MAPPING CENTER (WMC)
PRODUCER: UNDEFINED
PRODUCTION_SYSTEM: GIS/MAGIC
COMPRESSION: UNDEFINED
STANDARD_VERSION: 1996 12
METADATA_DATE: 2000 11 17
DATA_FILE_SIZE: 42817110
BYTE_COUNT: 5565
