FILENAME: O4710729.NES.1114946.tif
QUADRANGLE_NAME: SAWMILL CREEK
QUADRANT: NE
WEST_LONGITUDE: -107 26 15.00000
EAST_LONGITUDE: -107 22 30.00000
NORTH_LATITUDE: 47 37 30.00000
SOUTH_LATITUDE: 47 33 45.00000
PRODUCTION_DATE: 2000 11 8
RASTER_ORDER: LEFT_RIGHT/TOP_BOTTOM
BAND_ORGANIZATION: SINGLE FILE
BAND_CONTENT: BLACK&WHITE
BAND_CONTENT: UNDEFINED
BAND_CONTENT: UNDEFINED
BITS_PER_PIXEL: 8
SAMPLES_AND_LINES: 5566 7696
HORIZONTAL_DATUM: NAD83
HORIZONTAL_COORDINATE_SYSTEM: UTM
COORDINATE_ZONE: 13
HORIZONTAL_UNITS: METERS
HORIZONTAL_RESOLUTION: 1.00000
SECONDARY_HORIZONTAL_DATUM: NAD27
XY_ORIGIN: 316296.00000 5277803.00000
SECONDARY_XY_ORIGIN: 316339.34800 5277582.43200
NATION: US
NATION: "SCIENCE
STATE: MT
NW_QUAD_CORNER_XY: 316864.67900 5277500.53700
NE_QUAD_CORNER_XY: 321560.20900 5277354.77100
SE_QUAD_CORNERY_XY: 321347.50300 5270409.18300
SW_QUAD_CORNER_XY: 316646.36900 5270554.97800
SECONDARY_NW_QUAD_XY: 316858.96000 5277281.85100
SECONDARY_NE_QUAD_XY: 321554.63700 5277136.08000
SECONDARY_SE_QUAD_XY: 321341.93100 5270190.51300
SECONDARY_SW_QUAD_XY: 316640.65100 5270336.31200
RMSE_XY: 2.70000
IMAGE_SOURCE: BLACK AND WHITE FILM
SOURCE_IMAGE_ID: NAPP 9127 070
SOURCE_IMAGE_DATE: 1996 07 15
SOURCE_IMAGE_ID: NAPP 9127 153
SOURCE_IMAGE_DATE: 1996 07 15
SOURCE_IMAGE_ID: NAPP 9127 151
SOURCE_IMAGE_DATE: 1996 07 15
SOURCE_IMAGE_ID: NAPP 9127 068
SOURCE_IMAGE_DATE: 1996 07 15
SOURCE_IMAGE_ID: NAPP 9127 069
SOURCE_IMAGE_DATE: 1996 07 15
SOURCE_DEM_DATE: 1970 00 00
AGENCY: WESTERN MAPPING CENTER (WMC)
PRODUCER: UNDEFINED
PRODUCTION_SYSTEM: GIS/MAGIC
COMPRESSION: UNDEFINED
STANDARD_VERSION: 1996 12
METADATA_DATE: 2000 11 17
DATA_FILE_SIZE: 42841502
BYTE_COUNT: 5566
