FILENAME: O4710729.NWS.1114947.tif
QUADRANGLE_NAME: SAWMILL CREEK
QUADRANT: NW
WEST_LONGITUDE: -107 30 0.00000
EAST_LONGITUDE: -107 26 15.00000
NORTH_LATITUDE: 47 37 30.00000
SOUTH_LATITUDE: 47 33 45.00000
PRODUCTION_DATE: 2000 11 16
RASTER_ORDER: LEFT_RIGHT/TOP_BOTTOM
BAND_ORGANIZATION: SINGLE FILE
BAND_CONTENT: BLACK&WHITE
BAND_CONTENT: UNDEFINED
BAND_CONTENT: UNDEFINED
BITS_PER_PIXEL: 8
SAMPLES_AND_LINES: 5571 7700
HORIZONTAL_DATUM: NAD83
HORIZONTAL_COORDINATE_SYSTEM: UTM
COORDINATE_ZONE: 13
HORIZONTAL_UNITS: METERS
HORIZONTAL_RESOLUTION: 1.00000
SECONDARY_HORIZONTAL_DATUM: NAD27
XY_ORIGIN: 311595.00000 5277952.00000
SECONDARY_XY_ORIGIN: 311638.42700 5277731.46700
NATION: US
NATION: "SCIENCE
STATE: MT
NW_QUAD_CORNER_XY: 312169.16900 5277650.09300
NE_QUAD_CORNER_XY: 316864.67900 5277500.53700
SE_QUAD_CORNERY_XY: 316646.36900 5270554.97800
SW_QUAD_CORNER_XY: 311945.25500 5270704.56400
SECONDARY_NW_QUAD_XY: 312163.30300 5277431.41100
SECONDARY_NE_QUAD_XY: 316858.96000 5277281.85100
SECONDARY_SE_QUAD_XY: 316640.65100 5270336.31200
SECONDARY_SW_QUAD_XY: 311939.39000 5270485.90200
RMSE_XY: 2.80000
IMAGE_SOURCE: BLACK AND WHITE FILM
SOURCE_IMAGE_ID: NAPP 9127 175
SOURCE_IMAGE_DATE: 1996 07 15
SOURCE_IMAGE_ID: NAPP 9127 243
SOURCE_IMAGE_DATE: 1996 07 15
SOURCE_IMAGE_ID: NAPP 9127 174
SOURCE_IMAGE_DATE: 1996 07 15
SOURCE_IMAGE_ID: NAPP 9127 153
SOURCE_IMAGE_DATE: 1996 07 15
SOURCE_DEM_DATE: 1970 00 00
AGENCY: WESTERN MAPPING CENTER (WMC)
PRODUCER: UNDEFINED
PRODUCTION_SYSTEM: GIS/MAGIC
COMPRESSION: UNDEFINED
STANDARD_VERSION: 1996 12
METADATA_DATE: 2000 11 17
DATA_FILE_SIZE: 42902271
BYTE_COUNT: 5571
