FILENAME: O4710729.SES.1114948.tif
QUADRANGLE_NAME: SAWMILL CREEK
QUADRANT: SE
WEST_LONGITUDE: -107 26 15.00000
EAST_LONGITUDE: -107 22 30.00000
NORTH_LATITUDE: 47 33 45.00000
SOUTH_LATITUDE: 47 30 0.00000
PRODUCTION_DATE: 2000 11 8
RASTER_ORDER: LEFT_RIGHT/TOP_BOTTOM
BAND_ORGANIZATION: SINGLE FILE
BAND_CONTENT: BLACK&WHITE
BAND_CONTENT: UNDEFINED
BAND_CONTENT: UNDEFINED
BITS_PER_PIXEL: 8
SAMPLES_AND_LINES: 5571 7696
HORIZONTAL_DATUM: NAD83
HORIZONTAL_COORDINATE_SYSTEM: UTM
COORDINATE_ZONE: 13
HORIZONTAL_UNITS: METERS
HORIZONTAL_RESOLUTION: 1.00000
SECONDARY_HORIZONTAL_DATUM: NAD27
XY_ORIGIN: 316078.00000 5270857.00000
SECONDARY_XY_ORIGIN: 316121.32400 5270636.48800
NATION: US
NATION: "SCIENCE
STATE: MT
NW_QUAD_CORNER_XY: 316646.36900 5270554.97800
NE_QUAD_CORNER_XY: 321347.50300 5270409.18300
SE_QUAD_CORNERY_XY: 321135.01000 5263463.65900
SW_QUAD_CORNER_XY: 316428.27900 5263609.48200
SECONDARY_NW_QUAD_XY: 316640.65100 5270336.31200
SECONDARY_NE_QUAD_XY: 321341.93100 5270190.51300
SECONDARY_SE_QUAD_XY: 321129.43900 5263245.00900
SECONDARY_SW_QUAD_XY: 316422.56100 5263390.83700
RMSE_XY: 3.00000
IMAGE_SOURCE: BLACK AND WHITE FILM
SOURCE_IMAGE_ID: NAPP 9127 154
SOURCE_IMAGE_DATE: 1996 07 15
SOURCE_IMAGE_ID: NAPP 9127 155
SOURCE_IMAGE_DATE: 1996 07 15
SOURCE_IMAGE_ID: NAPP 9127 153
SOURCE_IMAGE_DATE: 1996 07 15
SOURCE_IMAGE_ID: NAPP 9127 067
SOURCE_IMAGE_DATE: 1996 07 15
SOURCE_IMAGE_ID: NAPP 9127 068
SOURCE_IMAGE_DATE: 1996 07 15
SOURCE_DEM_DATE: 1970 00 00
AGENCY: WESTERN MAPPING CENTER (WMC)
PRODUCER: UNDEFINED
PRODUCTION_SYSTEM: GIS/MAGIC
COMPRESSION: UNDEFINED
STANDARD_VERSION: 1996 12
METADATA_DATE: 2000 11 17
DATA_FILE_SIZE: 42879987
BYTE_COUNT: 5571
