FILENAME: O4710728.NES.1112190.tif
QUADRANGLE_NAME: PINE GROVE SCHOOL
QUADRANT: NE
WEST_LONGITUDE: -107 33 45.00000
EAST_LONGITUDE: -107 30 0.00000
NORTH_LATITUDE: 47 37 30.00000
SOUTH_LATITUDE: 47 33 45.00000
PRODUCTION_DATE: 2000 11 7
RASTER_ORDER: LEFT_RIGHT/TOP_BOTTOM
BAND_ORGANIZATION: SINGLE FILE
BAND_CONTENT: BLACK&WHITE
BAND_CONTENT: UNDEFINED
BAND_CONTENT: UNDEFINED
BITS_PER_PIXEL: 8
SAMPLES_AND_LINES: 5578 7704
HORIZONTAL_DATUM: NAD83
HORIZONTAL_COORDINATE_SYSTEM: UTM
COORDINATE_ZONE: 13
HORIZONTAL_UNITS: METERS
HORIZONTAL_RESOLUTION: 1.00000
SECONDARY_HORIZONTAL_DATUM: NAD27
XY_ORIGIN: 306893.00000 5278106.00000
SECONDARY_XY_ORIGIN: 306936.43900 5277885.51600
NATION: US
NATION: "SCIENCE
STATE: MT
NW_QUAD_CORNER_XY: 307473.67800 5277803.44000
NE_QUAD_CORNER_XY: 312169.16900 5277650.09300
SE_QUAD_CORNERY_XY: 311945.25500 5270704.56400
SW_QUAD_CORNER_XY: 307244.16000 5270857.94000
SECONDARY_NW_QUAD_XY: 307467.66600 5277584.76300
SECONDARY_NE_QUAD_XY: 312163.30300 5277431.41100
SECONDARY_SE_QUAD_XY: 311939.39000 5270485.90200
SECONDARY_SW_QUAD_XY: 307238.14900 5270639.28400
RMSE_XY: 2.80000
IMAGE_SOURCE: BLACK AND WHITE FILM
SOURCE_IMAGE_ID: NAPP 9127 242
SOURCE_IMAGE_DATE: 1996 07 15
SOURCE_IMAGE_ID: NAPP 9127 243
SOURCE_IMAGE_DATE: 1996 07 15
SOURCE_IMAGE_ID: NAPP 9127 241
SOURCE_IMAGE_DATE: 1996 07 15
SOURCE_IMAGE_ID: NAPP 9127 174
SOURCE_IMAGE_DATE: 1996 07 15
SOURCE_DEM_DATE: 1964 00 00
AGENCY: WESTERN MAPPING CENTER (WMC)
PRODUCER: UNDEFINED
PRODUCTION_SYSTEM: GIS/MAGIC
COMPRESSION: UNDEFINED
STANDARD_VERSION: 1996 12
METADATA_DATE: 2000 11 16
DATA_FILE_SIZE: 42978490
BYTE_COUNT: 5578
