FILENAME: O4710728.SES.1112192.tif
QUADRANGLE_NAME: PINE GROVE SCHOOL
QUADRANT: SE
WEST_LONGITUDE: -107 33 45.00000
EAST_LONGITUDE: -107 30 0.00000
NORTH_LATITUDE: 47 33 45.00000
SOUTH_LATITUDE: 47 30 0.00000
PRODUCTION_DATE: 2000 11 7
RASTER_ORDER: LEFT_RIGHT/TOP_BOTTOM
BAND_ORGANIZATION: SINGLE FILE
BAND_CONTENT: BLACK&WHITE
BAND_CONTENT: UNDEFINED
BAND_CONTENT: UNDEFINED
BITS_PER_PIXEL: 8
SAMPLES_AND_LINES: 5583 7703
HORIZONTAL_DATUM: NAD83
HORIZONTAL_COORDINATE_SYSTEM: UTM
COORDINATE_ZONE: 13
HORIZONTAL_UNITS: METERS
HORIZONTAL_RESOLUTION: 1.00000
SECONDARY_HORIZONTAL_DATUM: NAD27
XY_ORIGIN: 306664.00000 5271160.00000
SECONDARY_XY_ORIGIN: 306707.41500 5270939.52900
NATION: US
NATION: "SCIENCE
STATE: MT
NW_QUAD_CORNER_XY: 307244.16000 5270857.94000
NE_QUAD_CORNER_XY: 311945.25500 5270704.56400
SE_QUAD_CORNERY_XY: 311721.56600 5263759.09600
SW_QUAD_CORNER_XY: 307014.87300 5263912.50200
SECONDARY_NW_QUAD_XY: 307238.14900 5270639.28400
SECONDARY_NE_QUAD_XY: 311939.39000 5270485.90200
SECONDARY_SE_QUAD_XY: 311715.70200 5263540.45600
SECONDARY_SW_QUAD_XY: 307008.86200 5263693.86700
RMSE_XY: 1.70000
IMAGE_SOURCE: BLACK AND WHITE FILM
SOURCE_IMAGE_ID: NAPP 9127 244
SOURCE_IMAGE_DATE: 1996 07 15
SOURCE_IMAGE_ID: NAPP 9127 245
SOURCE_IMAGE_DATE: 1996 07 15
SOURCE_IMAGE_ID: NAPP 9127 243
SOURCE_IMAGE_DATE: 1996 07 15
SOURCE_DEM_DATE: 1964 00 00
AGENCY: WESTERN MAPPING CENTER (WMC)
PRODUCER: UNDEFINED
PRODUCTION_SYSTEM: GIS/MAGIC
COMPRESSION: UNDEFINED
STANDARD_VERSION: 1996 12
METADATA_DATE: 2000 11 16
DATA_FILE_SIZE: 43011432
BYTE_COUNT: 5583
