FILENAME: O4710728.SWS.1112193.tif
QUADRANGLE_NAME: PINE GROVE SCHOOL
QUADRANT: SW
WEST_LONGITUDE: -107 37 30.00000
EAST_LONGITUDE: -107 33 45.00000
NORTH_LATITUDE: 47 33 45.00000
SOUTH_LATITUDE: 47 30 0.00000
PRODUCTION_DATE: 2000 11 16
RASTER_ORDER: LEFT_RIGHT/TOP_BOTTOM
BAND_ORGANIZATION: SINGLE FILE
BAND_CONTENT: BLACK&WHITE
BAND_CONTENT: UNDEFINED
BAND_CONTENT: UNDEFINED
BITS_PER_PIXEL: 8
SAMPLES_AND_LINES: 5589 7707
HORIZONTAL_DATUM: NAD83
HORIZONTAL_COORDINATE_SYSTEM: UTM
COORDINATE_ZONE: 13
HORIZONTAL_UNITS: METERS
HORIZONTAL_RESOLUTION: 1.00000
SECONDARY_HORIZONTAL_DATUM: NAD27
XY_ORIGIN: 301957.00000 5271317.00000
SECONDARY_XY_ORIGIN: 302000.43700 5271096.55600
NATION: US
NATION: "SCIENCE
STATE: MT
NW_QUAD_CORNER_XY: 302543.08600 5271015.10900
NE_QUAD_CORNER_XY: 307244.16000 5270857.94000
SE_QUAD_CORNERY_XY: 307014.87300 5263912.50200
SW_QUAD_CORNER_XY: 302308.20000 5264069.70100
SECONDARY_NW_QUAD_XY: 302536.92800 5270796.45700
SECONDARY_NE_QUAD_XY: 307238.14900 5270639.28400
SECONDARY_SE_QUAD_XY: 307008.86200 5263693.86700
SECONDARY_SW_QUAD_XY: 302302.04200 5263851.07000
RMSE_XY: 3.00000
IMAGE_SOURCE: BLACK AND WHITE FILM
SOURCE_IMAGE_ID: NAPP 9131 046
SOURCE_IMAGE_DATE: 1996 07 29
SOURCE_IMAGE_ID: NAPP 9131 111
SOURCE_IMAGE_DATE: 1996 07 29
SOURCE_DEM_DATE: 1964 00 00
AGENCY: WESTERN MAPPING CENTER (WMC)
PRODUCER: UNDEFINED
PRODUCTION_SYSTEM: GIS/MAGIC
COMPRESSION: UNDEFINED
STANDARD_VERSION: 1996 12
METADATA_DATE: 2000 11 16
DATA_FILE_SIZE: 43080012
BYTE_COUNT: 5589
