FILENAME: O4710727.NES.1112730.tif
QUADRANGLE_NAME: LOST CREEK
QUADRANT: NE
WEST_LONGITUDE: -107 41 15.00000
EAST_LONGITUDE: -107 37 30.00000
NORTH_LATITUDE: 47 37 30.00000
SOUTH_LATITUDE: 47 33 45.00000
PRODUCTION_DATE: 2000 11 6
RASTER_ORDER: LEFT_RIGHT/TOP_BOTTOM
BAND_ORGANIZATION: SINGLE FILE
BAND_CONTENT: BLACK&WHITE
BAND_CONTENT: UNDEFINED
BAND_CONTENT: UNDEFINED
BITS_PER_PIXEL: 8
SAMPLES_AND_LINES: 5589 7711
HORIZONTAL_DATUM: NAD83
HORIZONTAL_COORDINATE_SYSTEM: UTM
COORDINATE_ZONE: 13
HORIZONTAL_UNITS: METERS
HORIZONTAL_RESOLUTION: 1.00000
SECONDARY_HORIZONTAL_DATUM: NAD27
XY_ORIGIN: 297491.00000 5278424.00000
SECONDARY_XY_ORIGIN: 297534.46600 5278203.60800
NATION: US
NATION: "SCIENCE
STATE: MT
NW_QUAD_CORNER_XY: 298082.76100 5278121.50600
NE_QUAD_CORNER_XY: 302778.20900 5277960.57700
SE_QUAD_CORNERY_XY: 302543.08600 5271015.10900
SW_QUAD_CORNER_XY: 297842.03300 5271176.06900
SECONDARY_NW_QUAD_XY: 298076.45500 5277902.83900
SECONDARY_NE_QUAD_XY: 302772.05000 5277741.90500
SECONDARY_SE_QUAD_XY: 302536.92800 5270796.45700
SECONDARY_SW_QUAD_XY: 297835.72800 5270957.42200
RMSE_XY: 2.40000
IMAGE_SOURCE: BLACK AND WHITE FILM
SOURCE_IMAGE_ID: NAPP 9131 108
SOURCE_IMAGE_DATE: 1996 07 29
SOURCE_DEM_DATE: 1964 00 00
AGENCY: WESTERN MAPPING CENTER (WMC)
PRODUCER: UNDEFINED
PRODUCTION_SYSTEM: GIS/MAGIC
COMPRESSION: UNDEFINED
STANDARD_VERSION: 1996 12
METADATA_DATE: 2000 11 15
DATA_FILE_SIZE: 43102368
BYTE_COUNT: 5589
