FILENAME: O4710727.SES.1112732.tif
QUADRANGLE_NAME: LOST CREEK
QUADRANT: SE
WEST_LONGITUDE: -107 41 15.00000
EAST_LONGITUDE: -107 37 30.00000
NORTH_LATITUDE: 47 33 45.00000
SOUTH_LATITUDE: 47 30 0.00000
PRODUCTION_DATE: 2000 11 6
RASTER_ORDER: LEFT_RIGHT/TOP_BOTTOM
BAND_ORGANIZATION: SINGLE FILE
BAND_CONTENT: BLACK&WHITE
BAND_CONTENT: UNDEFINED
BAND_CONTENT: UNDEFINED
BITS_PER_PIXEL: 8
SAMPLES_AND_LINES: 5595 7711
HORIZONTAL_DATUM: NAD83
HORIZONTAL_COORDINATE_SYSTEM: UTM
COORDINATE_ZONE: 13
HORIZONTAL_UNITS: METERS
HORIZONTAL_RESOLUTION: 1.00000
SECONDARY_HORIZONTAL_DATUM: NAD27
XY_ORIGIN: 297250.00000 5271478.00000
SECONDARY_XY_ORIGIN: 297293.45900 5271257.58300
NATION: US
NATION: "SCIENCE
STATE: MT
NW_QUAD_CORNER_XY: 297842.03300 5271176.06900
NE_QUAD_CORNER_XY: 302543.08600 5271015.10900
SE_QUAD_CORNERY_XY: 302308.20000 5264069.70100
SW_QUAD_CORNER_XY: 297601.54700 5264230.69200
SECONDARY_NW_QUAD_XY: 297835.72800 5270957.42200
SECONDARY_NE_QUAD_XY: 302536.92800 5270796.45700
SECONDARY_SE_QUAD_XY: 302302.04200 5263851.07000
SECONDARY_SW_QUAD_XY: 297595.24300 5264012.06600
RMSE_XY: 1.60000
IMAGE_SOURCE: BLACK AND WHITE FILM
SOURCE_IMAGE_ID: NAPP 9131 110
SOURCE_IMAGE_DATE: 1996 07 29
SOURCE_IMAGE_ID: NAPP 9131 184
SOURCE_IMAGE_DATE: 1996 07 29
SOURCE_DEM_DATE: 1964 00 00
AGENCY: WESTERN MAPPING CENTER (WMC)
PRODUCER: UNDEFINED
PRODUCTION_SYSTEM: GIS/MAGIC
COMPRESSION: UNDEFINED
STANDARD_VERSION: 1996 12
METADATA_DATE: 2000 11 15
DATA_FILE_SIZE: 43148640
BYTE_COUNT: 5595
