FILENAME: O4710727.SWS.1112733.tif
QUADRANGLE_NAME: LOST CREEK
QUADRANT: SW
WEST_LONGITUDE: -107 45 0.00000
EAST_LONGITUDE: -107 41 15.00000
NORTH_LATITUDE: 47 33 45.00000
SOUTH_LATITUDE: 47 30 0.00000
PRODUCTION_DATE: 2000 11 6
RASTER_ORDER: LEFT_RIGHT/TOP_BOTTOM
BAND_ORGANIZATION: SINGLE FILE
BAND_CONTENT: BLACK&WHITE
BAND_CONTENT: UNDEFINED
BAND_CONTENT: UNDEFINED
BITS_PER_PIXEL: 8
SAMPLES_AND_LINES: 5601 7715
HORIZONTAL_DATUM: NAD83
HORIZONTAL_COORDINATE_SYSTEM: UTM
COORDINATE_ZONE: 13
HORIZONTAL_UNITS: METERS
HORIZONTAL_RESOLUTION: 1.00000
SECONDARY_HORIZONTAL_DATUM: NAD27
XY_ORIGIN: 292543.00000 5271643.00000
SECONDARY_XY_ORIGIN: 292586.48100 5271422.60900
NATION: US
NATION: "SCIENCE
STATE: MT
NW_QUAD_CORNER_XY: 293141.00200 5271340.82200
NE_QUAD_CORNER_XY: 297842.03300 5271176.06900
SE_QUAD_CORNERY_XY: 297601.54700 5264230.69200
SW_QUAD_CORNER_XY: 292894.91600 5264395.47600
SECONDARY_NW_QUAD_XY: 293134.55000 5271122.18000
SECONDARY_NE_QUAD_XY: 297835.72800 5270957.42200
SECONDARY_SE_QUAD_XY: 297595.24300 5264012.06600
SECONDARY_SW_QUAD_XY: 292888.46500 5264176.85600
RMSE_XY: 2.40000
IMAGE_SOURCE: BLACK AND WHITE FILM
SOURCE_IMAGE_ID: NAPP 9131 185
SOURCE_IMAGE_DATE: 1996 07 29
SOURCE_IMAGE_ID: NAPP 9131 235
SOURCE_IMAGE_DATE: 1996 07 29
SOURCE_DEM_DATE: 1964 00 00
AGENCY: WESTERN MAPPING CENTER (WMC)
PRODUCER: UNDEFINED
PRODUCTION_SYSTEM: GIS/MAGIC
COMPRESSION: UNDEFINED
STANDARD_VERSION: 1996 12
METADATA_DATE: 2000 11 15
DATA_FILE_SIZE: 43217316
BYTE_COUNT: 5601
