FILENAME: O4710726.NES.1112690.tif
QUADRANGLE_NAME: MICKEY BUTTE
QUADRANT: NE
WEST_LONGITUDE: -107 48 45.00000
EAST_LONGITUDE: -107 45 0.00000
NORTH_LATITUDE: 47 37 30.00000
SOUTH_LATITUDE: 47 33 45.00000
PRODUCTION_DATE: 2000 11 6
RASTER_ORDER: LEFT_RIGHT/TOP_BOTTOM
BAND_ORGANIZATION: SINGLE FILE
BAND_CONTENT: BLACK&WHITE
BAND_CONTENT: UNDEFINED
BAND_CONTENT: UNDEFINED
BITS_PER_PIXEL: 8
SAMPLES_AND_LINES: 5601 7719
HORIZONTAL_DATUM: NAD83
HORIZONTAL_COORDINATE_SYSTEM: UTM
COORDINATE_ZONE: 13
HORIZONTAL_UNITS: METERS
HORIZONTAL_RESOLUTION: 1.00000
SECONDARY_HORIZONTAL_DATUM: NAD27
XY_ORIGIN: 288088.00000 5278757.00000
SECONDARY_XY_ORIGIN: 288131.49900 5278536.66900
NATION: US
NATION: "SCIENCE
STATE: MT
NW_QUAD_CORNER_XY: 288691.93200 5278454.73800
NE_QUAD_CORNER_XY: 293387.33500 5278286.22600
SE_QUAD_CORNERY_XY: 293141.00200 5271340.82200
SW_QUAD_CORNER_XY: 288439.99200 5271509.36700
SECONDARY_NW_QUAD_XY: 288685.33200 5278236.08100
SECONDARY_NE_QUAD_XY: 293380.88300 5278067.56400
SECONDARY_SE_QUAD_XY: 293134.55000 5271122.18000
SECONDARY_SW_QUAD_XY: 288433.39300 5271290.73000
RMSE_XY: 1.90000
IMAGE_SOURCE: BLACK AND WHITE FILM
SOURCE_IMAGE_ID: NAPP 9131 234
SOURCE_IMAGE_DATE: 1996 07 29
SOURCE_IMAGE_ID: NAPP 9131 233
SOURCE_IMAGE_DATE: 1996 07 29
SOURCE_DEM_DATE: 1964 00 00
AGENCY: WESTERN MAPPING CENTER (WMC)
PRODUCER: UNDEFINED
PRODUCTION_SYSTEM: GIS/MAGIC
COMPRESSION: UNDEFINED
STANDARD_VERSION: 1996 12
METADATA_DATE: 2000 11 15
DATA_FILE_SIZE: 43239720
BYTE_COUNT: 5601
