FILENAME: O4710726.SES.1112692.tif
QUADRANGLE_NAME: MICKEY BUTTE
QUADRANT: SE
WEST_LONGITUDE: -107 48 45.00000
EAST_LONGITUDE: -107 45 0.00000
NORTH_LATITUDE: 47 33 45.00000
SOUTH_LATITUDE: 47 30 0.00000
PRODUCTION_DATE: 2000 11 6
RASTER_ORDER: LEFT_RIGHT/TOP_BOTTOM
BAND_ORGANIZATION: SINGLE FILE
BAND_CONTENT: BLACK&WHITE
BAND_CONTENT: UNDEFINED
BAND_CONTENT: UNDEFINED
BITS_PER_PIXEL: 8
SAMPLES_AND_LINES: 5606 7719
HORIZONTAL_DATUM: NAD83
HORIZONTAL_COORDINATE_SYSTEM: UTM
COORDINATE_ZONE: 13
HORIZONTAL_UNITS: METERS
HORIZONTAL_RESOLUTION: 1.00000
SECONDARY_HORIZONTAL_DATUM: NAD27
XY_ORIGIN: 287837.00000 5271812.00000
SECONDARY_XY_ORIGIN: 287880.50300 5271591.63800
NATION: US
NATION: "SCIENCE
STATE: MT
NW_QUAD_CORNER_XY: 288439.99200 5271509.36700
NE_QUAD_CORNER_XY: 293141.00200 5271340.82200
SE_QUAD_CORNERY_XY: 292894.91600 5264395.47600
SW_QUAD_CORNER_XY: 288188.30500 5264564.05300
SECONDARY_NW_QUAD_XY: 288433.39300 5271290.73000
SECONDARY_NE_QUAD_XY: 293134.55000 5271122.18000
SECONDARY_SE_QUAD_XY: 292888.46500 5264176.85600
SECONDARY_SW_QUAD_XY: 288181.70700 5264345.43800
RMSE_XY: 1.80000
IMAGE_SOURCE: BLACK AND WHITE FILM
SOURCE_IMAGE_ID: NAPP 9131 236
SOURCE_IMAGE_DATE: 1996 07 29
SOURCE_IMAGE_ID: NAPP 9131 235
SOURCE_IMAGE_DATE: 1996 07 29
SOURCE_DEM_DATE: 1964 00 00
AGENCY: WESTERN MAPPING CENTER (WMC)
PRODUCER: UNDEFINED
PRODUCTION_SYSTEM: GIS/MAGIC
COMPRESSION: UNDEFINED
STANDARD_VERSION: 1996 12
METADATA_DATE: 2000 11 15
DATA_FILE_SIZE: 43278320
BYTE_COUNT: 5606
