FILENAME: O4710726.SWS.1112693.tif
QUADRANGLE_NAME: MICKEY BUTTE
QUADRANT: SW
WEST_LONGITUDE: -107 52 30.00000
EAST_LONGITUDE: -107 48 45.00000
NORTH_LATITUDE: 47 33 45.00000
SOUTH_LATITUDE: 47 30 0.00000
PRODUCTION_DATE: 2000 11 6
RASTER_ORDER: LEFT_RIGHT/TOP_BOTTOM
BAND_ORGANIZATION: SINGLE FILE
BAND_CONTENT: BLACK&WHITE
BAND_CONTENT: UNDEFINED
BAND_CONTENT: UNDEFINED
BITS_PER_PIXEL: 8
SAMPLES_AND_LINES: 5611 7722
HORIZONTAL_DATUM: NAD83
HORIZONTAL_COORDINATE_SYSTEM: UTM
COORDINATE_ZONE: 13
HORIZONTAL_UNITS: METERS
HORIZONTAL_RESOLUTION: 1.00000
SECONDARY_HORIZONTAL_DATUM: NAD27
XY_ORIGIN: 283130.00000 5271984.00000
SECONDARY_XY_ORIGIN: 283173.52700 5271763.65700
NATION: US
NATION: "SCIENCE
STATE: MT
NW_QUAD_CORNER_XY: 283739.00500 5271681.70400
NE_QUAD_CORNER_XY: 288439.99200 5271509.36700
SE_QUAD_CORNERY_XY: 288188.30500 5264564.05300
SW_QUAD_CORNER_XY: 283481.71700 5264736.42400
SECONDARY_NW_QUAD_XY: 283732.25900 5271463.07400
SECONDARY_NE_QUAD_XY: 288433.39300 5271290.73000
SECONDARY_SE_QUAD_XY: 288181.70700 5264345.43800
SECONDARY_SW_QUAD_XY: 283474.97200 5264517.81500
RMSE_XY: 1.20000
IMAGE_SOURCE: BLACK AND WHITE FILM
SOURCE_IMAGE_ID: NAPP 9132 072
SOURCE_IMAGE_DATE: 1996 07 29
SOURCE_DEM_DATE: 1964 00 00
AGENCY: WESTERN MAPPING CENTER (WMC)
PRODUCER: UNDEFINED
PRODUCTION_SYSTEM: GIS/MAGIC
COMPRESSION: UNDEFINED
STANDARD_VERSION: 1996 12
METADATA_DATE: 2000 11 15
DATA_FILE_SIZE: 43333753
BYTE_COUNT: 5611
