FILENAME: O4710725.NES.1112642.tif
QUADRANGLE_NAME: LOCKE RANCH
QUADRANT: NE
WEST_LONGITUDE: -107 56 15.00000
EAST_LONGITUDE: -107 52 30.00000
NORTH_LATITUDE: 47 37 30.00000
SOUTH_LATITUDE: 47 33 45.00000
PRODUCTION_DATE: 2000 11 3
RASTER_ORDER: LEFT_RIGHT/TOP_BOTTOM
BAND_ORGANIZATION: SINGLE FILE
BAND_CONTENT: BLACK&WHITE
BAND_CONTENT: UNDEFINED
BAND_CONTENT: UNDEFINED
BITS_PER_PIXEL: 8
SAMPLES_AND_LINES: 5612 7726
HORIZONTAL_DATUM: NAD83
HORIZONTAL_COORDINATE_SYSTEM: UTM
COORDINATE_ZONE: 13
HORIZONTAL_UNITS: METERS
HORIZONTAL_RESOLUTION: 1.00000
SECONDARY_HORIZONTAL_DATUM: NAD27
XY_ORIGIN: 278686.00000 5279105.00000
SECONDARY_XY_ORIGIN: 278729.53900 5278884.68700
NATION: US
NATION: "SCIENCE
STATE: MT
NW_QUAD_CORNER_XY: 279301.19400 5278803.13800
NE_QUAD_CORNER_XY: 283996.55100 5278627.04200
SE_QUAD_CORNERY_XY: 283739.00500 5271681.70400
SW_QUAD_CORNER_XY: 279038.04000 5271857.83600
SECONDARY_NW_QUAD_XY: 279294.30100 5278584.49200
SECONDARY_NE_QUAD_XY: 283989.80500 5278408.39000
SECONDARY_SE_QUAD_XY: 283732.25900 5271463.07400
SECONDARY_SW_QUAD_XY: 279031.14800 5271639.21000
RMSE_XY: 1.40000
IMAGE_SOURCE: BLACK AND WHITE FILM
SOURCE_IMAGE_ID: NAPP 9132 109
SOURCE_IMAGE_DATE: 1996 07 29
SOURCE_IMAGE_ID: NAPP 9132 111
SOURCE_IMAGE_DATE: 1996 07 29
SOURCE_DEM_DATE: 1964 00 00
AGENCY: WESTERN MAPPING CENTER (WMC)
PRODUCER: UNDEFINED
PRODUCTION_SYSTEM: GIS/MAGIC
COMPRESSION: UNDEFINED
STANDARD_VERSION: 1996 12
METADATA_DATE: 2000 11 15
DATA_FILE_SIZE: 43363924
BYTE_COUNT: 5612
