FILENAME: O4710725.NWS.1112643.tif
QUADRANGLE_NAME: LOCKE RANCH
QUADRANT: NW
WEST_LONGITUDE: -108 0 0.00000
EAST_LONGITUDE: -107 56 15.00000
NORTH_LATITUDE: 47 37 30.00000
SOUTH_LATITUDE: 47 33 45.00000
PRODUCTION_DATE: 2000 11 3
RASTER_ORDER: LEFT_RIGHT/TOP_BOTTOM
BAND_ORGANIZATION: SINGLE FILE
BAND_CONTENT: BLACK&WHITE
BAND_CONTENT: UNDEFINED
BAND_CONTENT: UNDEFINED
BITS_PER_PIXEL: 8
SAMPLES_AND_LINES: 5618 7730
HORIZONTAL_DATUM: NAD83
HORIZONTAL_COORDINATE_SYSTEM: UTM
COORDINATE_ZONE: 13
HORIZONTAL_UNITS: METERS
HORIZONTAL_RESOLUTION: 1.00000
SECONDARY_HORIZONTAL_DATUM: NAD27
XY_ORIGIN: 273985.00000 5279285.00000
SECONDARY_XY_ORIGIN: 274028.55800 5279064.69600
NATION: US
NATION: "SCIENCE
STATE: MT
NW_QUAD_CORNER_XY: 274605.86100 5278983.02700
NE_QUAD_CORNER_XY: 279301.19400 5278803.13800
SE_QUAD_CORNERY_XY: 279038.04000 5271857.83600
SW_QUAD_CORNER_XY: 274337.10000 5272037.76000
SECONDARY_NW_QUAD_XY: 274598.82200 5278764.38700
SECONDARY_NE_QUAD_XY: 279294.30100 5278584.49200
SECONDARY_SE_QUAD_XY: 279031.14800 5271639.21000
SECONDARY_SW_QUAD_XY: 274330.06100 5271819.14100
RMSE_XY: 2.40000
IMAGE_SOURCE: BLACK AND WHITE FILM
SOURCE_IMAGE_ID: NAPP 9132 187
SOURCE_IMAGE_DATE: 1996 07 29
SOURCE_DEM_DATE: 1964 00 00
AGENCY: WESTERN MAPPING CENTER (WMC)
PRODUCER: UNDEFINED
PRODUCTION_SYSTEM: GIS/MAGIC
COMPRESSION: UNDEFINED
STANDARD_VERSION: 1996 12
METADATA_DATE: 2000 11 15
DATA_FILE_SIZE: 43432758
BYTE_COUNT: 5618
