FILENAME: O4710725.SES.1112644.tif
QUADRANGLE_NAME: LOCKE RANCH
QUADRANT: SE
WEST_LONGITUDE: -107 56 15.00000
EAST_LONGITUDE: -107 52 30.00000
NORTH_LATITUDE: 47 33 45.00000
SOUTH_LATITUDE: 47 30 0.00000
PRODUCTION_DATE: 2000 11 3
RASTER_ORDER: LEFT_RIGHT/TOP_BOTTOM
BAND_ORGANIZATION: SINGLE FILE
BAND_CONTENT: BLACK&WHITE
BAND_CONTENT: UNDEFINED
BAND_CONTENT: UNDEFINED
BITS_PER_PIXEL: 8
SAMPLES_AND_LINES: 5618 7726
HORIZONTAL_DATUM: NAD83
HORIZONTAL_COORDINATE_SYSTEM: UTM
COORDINATE_ZONE: 13
HORIZONTAL_UNITS: METERS
HORIZONTAL_RESOLUTION: 1.00000
SECONDARY_HORIZONTAL_DATUM: NAD27
XY_ORIGIN: 278423.00000 5272160.00000
SECONDARY_XY_ORIGIN: 278466.55100 5271939.67600
NATION: US
NATION: "SCIENCE
STATE: MT
NW_QUAD_CORNER_XY: 279038.04000 5271857.83600
NE_QUAD_CORNER_XY: 283739.00500 5271681.70400
SE_QUAD_CORNERY_XY: 283481.71700 5264736.42400
SW_QUAD_CORNER_XY: 278775.15100 5264912.58900
SECONDARY_NW_QUAD_XY: 279031.14800 5271639.21000
SECONDARY_NE_QUAD_XY: 283732.25900 5271463.07400
SECONDARY_SE_QUAD_XY: 283474.97200 5264517.81500
SECONDARY_SW_QUAD_XY: 278768.26000 5264693.98500
RMSE_XY: 2.10000
IMAGE_SOURCE: BLACK AND WHITE FILM
SOURCE_IMAGE_ID: NAPP 9132 111
SOURCE_IMAGE_DATE: 1996 07 29
SOURCE_DEM_DATE: 1964 00 00
AGENCY: WESTERN MAPPING CENTER (WMC)
PRODUCER: UNDEFINED
PRODUCTION_SYSTEM: GIS/MAGIC
COMPRESSION: UNDEFINED
STANDARD_VERSION: 1996 12
METADATA_DATE: 2000 11 15
DATA_FILE_SIZE: 43410286
BYTE_COUNT: 5618
