FILENAME: O4710725.SWS.1112645.tif
QUADRANGLE_NAME: LOCKE RANCH
QUADRANT: SW
WEST_LONGITUDE: -108 0 0.00000
EAST_LONGITUDE: -107 56 15.00000
NORTH_LATITUDE: 47 33 45.00000
SOUTH_LATITUDE: 47 30 0.00000
PRODUCTION_DATE: 1993 9 22
RASTER_ORDER: LEFT_RIGHT/TOP_BOTTOM
BAND_ORGANIZATION: SINGLE FILE
BAND_CONTENT: BLACK&WHITE
BAND_CONTENT: UNDEFINED
BAND_CONTENT: UNDEFINED
BITS_PER_PIXEL: 8
SAMPLES_AND_LINES: 5624 7730
HORIZONTAL_DATUM: NAD83
HORIZONTAL_COORDINATE_SYSTEM: UTM
COORDINATE_ZONE: 13
HORIZONTAL_UNITS: METERS
HORIZONTAL_RESOLUTION: 1.00000
SECONDARY_HORIZONTAL_DATUM: NAD27
XY_ORIGIN: 273716.00000 5272340.00000
SECONDARY_XY_ORIGIN: 273759.57500 5272119.69500
NATION: US
NATION: "SCIENCE
STATE: MT
NW_QUAD_CORNER_XY: 274337.10000 5272037.76000
NE_QUAD_CORNER_XY: 279038.04000 5271857.83600
SE_QUAD_CORNERY_XY: 278775.15100 5264912.58900
SW_QUAD_CORNER_XY: 274068.60800 5265092.54900
SECONDARY_NW_QUAD_XY: 274330.06100 5271819.14100
SECONDARY_NE_QUAD_XY: 279031.14800 5271639.21000
SECONDARY_SE_QUAD_XY: 278768.26000 5264693.98500
SECONDARY_SW_QUAD_XY: 274061.57000 5264873.95000
RMSE_XY: 10.00000
IMAGE_SOURCE: BLACK AND WHITE FILM
SOURCE_IMAGE_ID: NAPP 9132 185
SOURCE_IMAGE_DATE: 1996 07 29
SOURCE_DEM_DATE: 1964 00 00
AGENCY: WESTERN MAPPING CENTER (WMC)
PRODUCER: UNDEFINED
PRODUCTION_SYSTEM: GIS/MAGIC
COMPRESSION: UNDEFINED
STANDARD_VERSION: 1996 12
METADATA_DATE: 2000 11 15
DATA_FILE_SIZE: 43479144
BYTE_COUNT: 5624
