FILENAME: O4710724.NES.1112226.tif
QUADRANGLE_NAME: HARPER CAMP
QUADRANT: NE
WEST_LONGITUDE: -107 3 45.00000
EAST_LONGITUDE: -107 0 0.00000
NORTH_LATITUDE: 47 45 0.00000
SOUTH_LATITUDE: 47 41 15.00000
PRODUCTION_DATE: 2000 11 14
RASTER_ORDER: LEFT_RIGHT/TOP_BOTTOM
BAND_ORGANIZATION: SINGLE FILE
BAND_CONTENT: BLACK&WHITE
BAND_CONTENT: UNDEFINED
BAND_CONTENT: UNDEFINED
BITS_PER_PIXEL: 8
SAMPLES_AND_LINES: 5520 7674
HORIZONTAL_DATUM: NAD83
HORIZONTAL_COORDINATE_SYSTEM: UTM
COORDINATE_ZONE: 13
HORIZONTAL_UNITS: METERS
HORIZONTAL_RESOLUTION: 1.00000
SECONDARY_HORIZONTAL_DATUM: NAD27
XY_ORIGIN: 344874.00000 5290877.00000
SECONDARY_XY_ORIGIN: 344916.71400 5290656.02900
NATION: US
NATION: "SCIENCE
STATE: MT
NW_QUAD_CORNER_XY: 345408.09000 5290574.41900
NE_QUAD_CORNER_XY: 350092.51000 5290451.43800
SE_QUAD_CORNERY_XY: 349913.05500 5283505.56100
SW_QUAD_CORNER_XY: 345223.02300 5283628.56800
SECONDARY_NW_QUAD_XY: 345403.25000 5290355.66900
SECONDARY_NE_QUAD_XY: 350087.81700 5290232.68400
SECONDARY_SE_QUAD_XY: 349908.36200 5283286.82600
SECONDARY_SW_QUAD_XY: 345218.18300 5283409.83600
RMSE_XY: 2.70000
IMAGE_SOURCE: BLACK AND WHITE FILM
SOURCE_IMAGE_ID: NAPP 9101 106
SOURCE_IMAGE_DATE: 1996 07 15
SOURCE_IMAGE_ID: NAPP 9101 105
SOURCE_IMAGE_DATE: 1996 07 15
SOURCE_DEM_DATE: 1993 00 00
AGENCY: WESTERN MAPPING CENTER (WMC)
PRODUCER: UNDEFINED
PRODUCTION_SYSTEM: GIS/MAGIC
COMPRESSION: UNDEFINED
STANDARD_VERSION: 1996 12
METADATA_DATE: 2000 11 17
DATA_FILE_SIZE: 42366000
BYTE_COUNT: 5520
