FILENAME: O4710724.NWS.1112227.tif
QUADRANGLE_NAME: HARPER CAMP
QUADRANT: NW
WEST_LONGITUDE: -107 7 30.00000
EAST_LONGITUDE: -107 3 45.00000
NORTH_LATITUDE: 47 45 0.00000
SOUTH_LATITUDE: 47 41 15.00000
PRODUCTION_DATE: 2000 11 14
RASTER_ORDER: LEFT_RIGHT/TOP_BOTTOM
BAND_ORGANIZATION: SINGLE FILE
BAND_CONTENT: BLACK&WHITE
BAND_CONTENT: UNDEFINED
BAND_CONTENT: UNDEFINED
BITS_PER_PIXEL: 8
SAMPLES_AND_LINES: 5526 7678
HORIZONTAL_DATUM: NAD83
HORIZONTAL_COORDINATE_SYSTEM: UTM
COORDINATE_ZONE: 13
HORIZONTAL_UNITS: METERS
HORIZONTAL_RESOLUTION: 1.00000
SECONDARY_HORIZONTAL_DATUM: NAD27
XY_ORIGIN: 340184.00000 5291004.00000
SECONDARY_XY_ORIGIN: 340226.84200 5290783.04200
NATION: US
NATION: "SCIENCE
STATE: MT
NW_QUAD_CORNER_XY: 340723.68800 5290701.18800
NE_QUAD_CORNER_XY: 345408.09000 5290574.41900
SE_QUAD_CORNERY_XY: 345223.02300 5283628.56800
SW_QUAD_CORNER_XY: 340533.00800 5283755.36200
SECONDARY_NW_QUAD_XY: 340718.70100 5290482.44200
SECONDARY_NE_QUAD_XY: 345403.25000 5290355.66900
SECONDARY_SE_QUAD_XY: 345218.18300 5283409.83600
SECONDARY_SW_QUAD_XY: 340528.02100 5283536.63500
RMSE_XY: 2.50000
IMAGE_SOURCE: BLACK AND WHITE FILM
SOURCE_IMAGE_ID: NAPP 10763 057
SOURCE_IMAGE_DATE: 1997 09 20
SOURCE_IMAGE_ID: NAPP 10763 058
SOURCE_IMAGE_DATE: 1997 09 20
SOURCE_IMAGE_ID: NAPP 10763 056
SOURCE_IMAGE_DATE: 1997 09 20
SOURCE_IMAGE_ID: NAPP 9101 107
SOURCE_IMAGE_DATE: 1996 07 15
SOURCE_DEM_DATE: 1993 00 00
AGENCY: WESTERN MAPPING CENTER (WMC)
PRODUCER: UNDEFINED
PRODUCTION_SYSTEM: GIS/MAGIC
COMPRESSION: UNDEFINED
STANDARD_VERSION: 1996 12
METADATA_DATE: 2000 11 17
DATA_FILE_SIZE: 42434154
BYTE_COUNT: 5526
