FILENAME: O4710723.NWS.1115021.tif
QUADRANGLE_NAME: WAGON COULEE
QUADRANT: NW
WEST_LONGITUDE: -107 15 0.00000
EAST_LONGITUDE: -107 11 15.00000
NORTH_LATITUDE: 47 45 0.00000
SOUTH_LATITUDE: 47 41 15.00000
PRODUCTION_DATE: 2000 11 10
RASTER_ORDER: LEFT_RIGHT/TOP_BOTTOM
BAND_ORGANIZATION: SINGLE FILE
BAND_CONTENT: BLACK&WHITE
BAND_CONTENT: UNDEFINED
BAND_CONTENT: UNDEFINED
BITS_PER_PIXEL: 8
SAMPLES_AND_LINES: 5538 7686
HORIZONTAL_DATUM: NAD83
HORIZONTAL_COORDINATE_SYSTEM: UTM
COORDINATE_ZONE: 13
HORIZONTAL_UNITS: METERS
HORIZONTAL_RESOLUTION: 1.00000
SECONDARY_HORIZONTAL_DATUM: NAD27
XY_ORIGIN: 330803.00000 5291269.00000
SECONDARY_XY_ORIGIN: 330846.09800 5291048.06600
NATION: US
NATION: "SCIENCE
STATE: MT
NW_QUAD_CORNER_XY: 331354.93700 5290966.08600
NE_QUAD_CORNER_XY: 336039.30300 5290831.74300
SE_QUAD_CORNERY_XY: 335843.01100 5283885.94400
SW_QUAD_CORNER_XY: 331153.03100 5284020.31500
SECONDARY_NW_QUAD_XY: 331349.65700 5290747.34800
SECONDARY_NE_QUAD_XY: 336034.17000 5290613.00100
SECONDARY_SE_QUAD_XY: 335837.87700 5283667.22100
SECONDARY_SW_QUAD_XY: 331147.75200 5283801.59500
RMSE_XY: 2.70000
IMAGE_SOURCE: BLACK AND WHITE FILM
SOURCE_IMAGE_ID: NAPP 9101 249
SOURCE_IMAGE_DATE: 1996 07 15
SOURCE_IMAGE_ID: NAPP 9101 248
SOURCE_IMAGE_DATE: 1996 07 15
SOURCE_DEM_DATE: 1993 00 00
AGENCY: WESTERN MAPPING CENTER (WMC)
PRODUCER: UNDEFINED
PRODUCTION_SYSTEM: GIS/MAGIC
COMPRESSION: UNDEFINED
STANDARD_VERSION: 1996 12
METADATA_DATE: 2000 11 17
DATA_FILE_SIZE: 42570606
BYTE_COUNT: 5538
