FILENAME: O4710722.NES.1114984.tif
QUADRANGLE_NAME: WOLFE COULEE
QUADRANT: NE
WEST_LONGITUDE: -107 18 45.00000
EAST_LONGITUDE: -107 15 0.00000
NORTH_LATITUDE: 47 45 0.00000
SOUTH_LATITUDE: 47 41 15.00000
PRODUCTION_DATE: 2000 11 10
RASTER_ORDER: LEFT_RIGHT/TOP_BOTTOM
BAND_ORGANIZATION: SINGLE FILE
BAND_CONTENT: BLACK&WHITE
BAND_CONTENT: UNDEFINED
BAND_CONTENT: UNDEFINED
BITS_PER_PIXEL: 8
SAMPLES_AND_LINES: 5543 7689
HORIZONTAL_DATUM: NAD83
HORIZONTAL_COORDINATE_SYSTEM: UTM
COORDINATE_ZONE: 13
HORIZONTAL_UNITS: METERS
HORIZONTAL_RESOLUTION: 1.00000
SECONDARY_HORIZONTAL_DATUM: NAD27
XY_ORIGIN: 326113.00000 5291407.00000
SECONDARY_XY_ORIGIN: 326156.19400 5291186.15400
NATION: US
NATION: "SCIENCE
STATE: MT
NW_QUAD_CORNER_XY: 326670.59100 5291104.21600
NE_QUAD_CORNER_XY: 331354.93700 5290966.08600
SE_QUAD_CORNERY_XY: 331153.03100 5284020.31500
SW_QUAD_CORNER_XY: 326463.07100 5284158.47300
SECONDARY_NW_QUAD_XY: 326665.16400 5290885.48300
SECONDARY_NE_QUAD_XY: 331349.65700 5290747.34800
SECONDARY_SE_QUAD_XY: 331147.75200 5283801.59500
SECONDARY_SW_QUAD_XY: 326457.64400 5283939.75900
RMSE_XY: 1.90000
IMAGE_SOURCE: BLACK AND WHITE FILM
SOURCE_IMAGE_ID: NAPP 9127 042
SOURCE_IMAGE_DATE: 1996 07 15
SOURCE_IMAGE_ID: NAPP 9127 043
SOURCE_IMAGE_DATE: 1996 07 15
SOURCE_IMAGE_ID: NAPP 9127 041
SOURCE_IMAGE_DATE: 1996 07 15
SOURCE_DEM_DATE: 1970 00 00
AGENCY: WESTERN MAPPING CENTER (WMC)
PRODUCER: UNDEFINED
PRODUCTION_SYSTEM: GIS/MAGIC
COMPRESSION: UNDEFINED
STANDARD_VERSION: 1996 12
METADATA_DATE: 2000 11 17
DATA_FILE_SIZE: 42625670
BYTE_COUNT: 5543
