FILENAME: O4710721.NES.1116734.tif
QUADRANGLE_NAME: SWEDE RIDGE
QUADRANT: NE
WEST_LONGITUDE: -107 26 15.00000
EAST_LONGITUDE: -107 22 30.00000
NORTH_LATITUDE: 47 45 0.00000
SOUTH_LATITUDE: 47 41 15.00000
PRODUCTION_DATE: 2000 11 14
RASTER_ORDER: LEFT_RIGHT/TOP_BOTTOM
BAND_ORGANIZATION: SINGLE FILE
BAND_CONTENT: BLACK&WHITE
BAND_CONTENT: UNDEFINED
BAND_CONTENT: UNDEFINED
BITS_PER_PIXEL: 8
SAMPLES_AND_LINES: 5555 7696
HORIZONTAL_DATUM: NAD83
HORIZONTAL_COORDINATE_SYSTEM: UTM
COORDINATE_ZONE: 13
HORIZONTAL_UNITS: METERS
HORIZONTAL_RESOLUTION: 1.00000
SECONDARY_HORIZONTAL_DATUM: NAD27
XY_ORIGIN: 316733.00000 5291694.00000
SECONDARY_XY_ORIGIN: 316776.39400 5291473.32300
NATION: US
NATION: "SCIENCE
STATE: MT
NW_QUAD_CORNER_XY: 317301.95700 5291391.84100
NE_QUAD_CORNER_XY: 321986.26300 5291246.13500
SE_QUAD_CORNERY_XY: 321773.13000 5284300.42100
SW_QUAD_CORNER_XY: 317083.20800 5284446.15800
SECONDARY_NW_QUAD_XY: 317296.23600 5291173.11700
SECONDARY_NE_QUAD_XY: 321980.69000 5291027.40600
SECONDARY_SE_QUAD_XY: 321767.55700 5284081.71100
SECONDARY_SW_QUAD_XY: 317077.48800 5284227.45200
RMSE_XY: 2.40000
IMAGE_SOURCE: BLACK AND WHITE FILM
SOURCE_IMAGE_ID: NAPP 9127 148
SOURCE_IMAGE_DATE: 1996 07 15
SOURCE_IMAGE_ID: NAPP 9127 149
SOURCE_IMAGE_DATE: 1996 07 15
SOURCE_DEM_DATE: 1970 00 00
AGENCY: WESTERN MAPPING CENTER (WMC)
PRODUCER: UNDEFINED
PRODUCTION_SYSTEM: GIS/MAGIC
COMPRESSION: UNDEFINED
STANDARD_VERSION: 1996 12
METADATA_DATE: 2000 11 30
DATA_FILE_SIZE: 42756835
BYTE_COUNT: 5555
