FILENAME: O4710721.NWS.1116735.tif
QUADRANGLE_NAME: SWEDE RIDGE
QUADRANT: NW
WEST_LONGITUDE: -107 30 0.00000
EAST_LONGITUDE: -107 26 15.00000
NORTH_LATITUDE: 47 45 0.00000
SOUTH_LATITUDE: 47 41 15.00000
PRODUCTION_DATE: 2000 11 14
RASTER_ORDER: LEFT_RIGHT/TOP_BOTTOM
BAND_ORGANIZATION: SINGLE FILE
BAND_CONTENT: BLACK&WHITE
BAND_CONTENT: UNDEFINED
BAND_CONTENT: UNDEFINED
BITS_PER_PIXEL: 8
SAMPLES_AND_LINES: 5561 7700
HORIZONTAL_DATUM: NAD83
HORIZONTAL_COORDINATE_SYSTEM: UTM
COORDINATE_ZONE: 13
HORIZONTAL_UNITS: METERS
HORIZONTAL_RESOLUTION: 1.00000
SECONDARY_HORIZONTAL_DATUM: NAD27
XY_ORIGIN: 312042.00000 5291844.00000
SECONDARY_XY_ORIGIN: 312085.49500 5291623.40700
NATION: US
NATION: "SCIENCE
STATE: MT
NW_QUAD_CORNER_XY: 312617.67000 5291541.33700
NE_QUAD_CORNER_XY: 317301.95700 5291391.84100
SE_QUAD_CORNERY_XY: 317083.20800 5284446.15800
SW_QUAD_CORNER_XY: 312393.30700 5284595.68400
SECONDARY_NW_QUAD_XY: 312611.80300 5291322.61700
SECONDARY_NE_QUAD_XY: 317296.23600 5291173.11700
SECONDARY_SE_QUAD_XY: 317077.48800 5284227.45200
SECONDARY_SW_QUAD_XY: 312387.44100 5284376.98300
RMSE_XY: 2.90000
IMAGE_SOURCE: BLACK AND WHITE FILM
SOURCE_IMAGE_ID: NAPP 9127 179
SOURCE_IMAGE_DATE: 1996 07 15
SOURCE_IMAGE_ID: NAPP 9127 178
SOURCE_IMAGE_DATE: 1996 07 15
SOURCE_DEM_DATE: 1970 00 00
AGENCY: WESTERN MAPPING CENTER (WMC)
PRODUCER: UNDEFINED
PRODUCTION_SYSTEM: GIS/MAGIC
COMPRESSION: UNDEFINED
STANDARD_VERSION: 1996 12
METADATA_DATE: 2000 11 30
DATA_FILE_SIZE: 42825261
BYTE_COUNT: 5561
