FILENAME: O4710720.NES.1116682.tif
QUADRANGLE_NAME: SCHUYLER BUTTE
QUADRANT: NE
WEST_LONGITUDE: -107 33 45.00000
EAST_LONGITUDE: -107 30 0.00000
NORTH_LATITUDE: 47 45 0.00000
SOUTH_LATITUDE: 47 41 15.00000
PRODUCTION_DATE: 2000 11 14
RASTER_ORDER: LEFT_RIGHT/TOP_BOTTOM
BAND_ORGANIZATION: SINGLE FILE
BAND_CONTENT: BLACK&WHITE
BAND_CONTENT: UNDEFINED
BAND_CONTENT: UNDEFINED
BITS_PER_PIXEL: 8
SAMPLES_AND_LINES: 5567 7704
HORIZONTAL_DATUM: NAD83
HORIZONTAL_COORDINATE_SYSTEM: UTM
COORDINATE_ZONE: 13
HORIZONTAL_UNITS: METERS
HORIZONTAL_RESOLUTION: 1.00000
SECONDARY_HORIZONTAL_DATUM: NAD27
XY_ORIGIN: 307352.00000 5291997.00000
SECONDARY_XY_ORIGIN: 307395.48700 5291776.49400
NATION: US
NATION: "SCIENCE
STATE: MT
NW_QUAD_CORNER_XY: 307933.40600 5291694.62100
NE_QUAD_CORNER_XY: 312617.67000 5291541.33700
SE_QUAD_CORNERY_XY: 312393.30700 5284595.68400
SW_QUAD_CORNER_XY: 307703.42700 5284749.00000
SECONDARY_NW_QUAD_XY: 307927.39200 5291475.90600
SECONDARY_NE_QUAD_XY: 312611.80300 5291322.61700
SECONDARY_SE_QUAD_XY: 312387.44100 5284376.98300
SECONDARY_SW_QUAD_XY: 307697.41400 5284530.30400
RMSE_XY: 2.70000
IMAGE_SOURCE: BLACK AND WHITE FILM
SOURCE_IMAGE_ID: NAPP 9127 238
SOURCE_IMAGE_DATE: 1996 07 15
SOURCE_DEM_DATE: 1982 00 00
AGENCY: WESTERN MAPPING CENTER (WMC)
PRODUCER: UNDEFINED
PRODUCTION_SYSTEM: GIS/MAGIC
COMPRESSION: UNDEFINED
STANDARD_VERSION: 1996 12
METADATA_DATE: 2000 11 30
DATA_FILE_SIZE: 42893735
BYTE_COUNT: 5567
