FILENAME: O4710719.NWS.1116655.tif
QUADRANGLE_NAME: HERMAN POINT
QUADRANT: NW
WEST_LONGITUDE: -107 45 0.00000
EAST_LONGITUDE: -107 41 15.00000
NORTH_LATITUDE: 47 45 0.00000
SOUTH_LATITUDE: 47 41 15.00000
PRODUCTION_DATE: 2000 11 6
RASTER_ORDER: LEFT_RIGHT/TOP_BOTTOM
BAND_ORGANIZATION: SINGLE FILE
BAND_CONTENT: BLACK&WHITE
BAND_CONTENT: UNDEFINED
BAND_CONTENT: UNDEFINED
BITS_PER_PIXEL: 8
SAMPLES_AND_LINES: 5584 7714
HORIZONTAL_DATUM: NAD83
HORIZONTAL_COORDINATE_SYSTEM: UTM
COORDINATE_ZONE: 13
HORIZONTAL_UNITS: METERS
HORIZONTAL_RESOLUTION: 1.00000
SECONDARY_HORIZONTAL_DATUM: NAD27
XY_ORIGIN: 293282.00000 5292479.00000
SECONDARY_XY_ORIGIN: 293325.47900 5292258.74700
NATION: US
NATION: "SCIENCE
STATE: MT
NW_QUAD_CORNER_XY: 293880.74400 5292177.21000
NE_QUAD_CORNER_XY: 298564.94200 5292012.55700
SE_QUAD_CORNERY_XY: 298323.73100 5285067.00200
SW_QUAD_CORNER_XY: 293633.91600 5285231.68900
SECONDARY_NW_QUAD_XY: 293874.29000 5291958.51100
SECONDARY_NE_QUAD_XY: 298558.63500 5291793.85300
SECONDARY_SE_QUAD_XY: 298317.42400 5284848.31600
SECONDARY_SW_QUAD_XY: 293627.46300 5285013.00800
RMSE_XY: 1.60000
IMAGE_SOURCE: BLACK AND WHITE FILM
SOURCE_IMAGE_ID: NAPP 9131 191
SOURCE_IMAGE_DATE: 1996 07 29
SOURCE_DEM_DATE: 1964 00 00
AGENCY: WESTERN MAPPING CENTER (WMC)
PRODUCER: UNDEFINED
PRODUCTION_SYSTEM: GIS/MAGIC
COMPRESSION: UNDEFINED
STANDARD_VERSION: 1996 12
METADATA_DATE: 2000 11 15
DATA_FILE_SIZE: 43080560
BYTE_COUNT: 5584
