FILENAME: O4710718.NES.1112686.tif
QUADRANGLE_NAME: INDIAN LAKE
QUADRANT: NE
WEST_LONGITUDE: -107 48 45.00000
EAST_LONGITUDE: -107 45 0.00000
NORTH_LATITUDE: 47 45 0.00000
SOUTH_LATITUDE: 47 41 15.00000
PRODUCTION_DATE: 2000 11 6
RASTER_ORDER: LEFT_RIGHT/TOP_BOTTOM
BAND_ORGANIZATION: SINGLE FILE
BAND_CONTENT: BLACK&WHITE
BAND_CONTENT: UNDEFINED
BAND_CONTENT: UNDEFINED
BITS_PER_PIXEL: 8
SAMPLES_AND_LINES: 5589 7719
HORIZONTAL_DATUM: NAD83
HORIZONTAL_COORDINATE_SYSTEM: UTM
COORDINATE_ZONE: 13
HORIZONTAL_UNITS: METERS
HORIZONTAL_RESOLUTION: 1.00000
SECONDARY_HORIZONTAL_DATUM: NAD27
XY_ORIGIN: 288593.00000 5292648.00000
SECONDARY_XY_ORIGIN: 288636.49100 5292427.73400
NATION: US
NATION: "SCIENCE
STATE: MT
NW_QUAD_CORNER_XY: 289196.57000 5292345.65300
NE_QUAD_CORNER_XY: 293880.74400 5292177.21000
SE_QUAD_CORNERY_XY: 293633.91600 5285231.68900
SW_QUAD_CORNER_XY: 288944.12400 5285400.16700
SECONDARY_NW_QUAD_XY: 289189.96900 5292126.95900
SECONDARY_NE_QUAD_XY: 293874.29000 5291958.51100
SECONDARY_SE_QUAD_XY: 293627.46300 5285013.00800
SECONDARY_SW_QUAD_XY: 288937.52400 5285181.49100
RMSE_XY: 1.10000
IMAGE_SOURCE: BLACK AND WHITE FILM
SOURCE_IMAGE_ID: NAPP 9131 230
SOURCE_IMAGE_DATE: 1996 07 29
SOURCE_DEM_DATE: 1964 00 00
AGENCY: WESTERN MAPPING CENTER (WMC)
PRODUCER: UNDEFINED
PRODUCTION_SYSTEM: GIS/MAGIC
COMPRESSION: UNDEFINED
STANDARD_VERSION: 1996 12
METADATA_DATE: 2000 11 15
DATA_FILE_SIZE: 43147080
BYTE_COUNT: 5589
