FILENAME: O4710717.NES.1112638.tif
QUADRANGLE_NAME: PEA RIDGE
QUADRANT: NE
WEST_LONGITUDE: -107 56 15.00000
EAST_LONGITUDE: -107 52 30.00000
NORTH_LATITUDE: 47 45 0.00000
SOUTH_LATITUDE: 47 41 15.00000
PRODUCTION_DATE: 2000 11 3
RASTER_ORDER: LEFT_RIGHT/TOP_BOTTOM
BAND_ORGANIZATION: SINGLE FILE
BAND_CONTENT: BLACK&WHITE
BAND_CONTENT: UNDEFINED
BAND_CONTENT: UNDEFINED
BITS_PER_PIXEL: 8
SAMPLES_AND_LINES: 5601 7726
HORIZONTAL_DATUM: NAD83
HORIZONTAL_COORDINATE_SYSTEM: UTM
COORDINATE_ZONE: 13
HORIZONTAL_UNITS: METERS
HORIZONTAL_RESOLUTION: 1.00000
SECONDARY_HORIZONTAL_DATUM: NAD27
XY_ORIGIN: 279213.00000 5292996.00000
SECONDARY_XY_ORIGIN: 279256.51400 5292775.71200
NATION: US
NATION: "SCIENCE
STATE: MT
NW_QUAD_CORNER_XY: 279828.29400 5292693.91100
NE_QUAD_CORNER_XY: 284512.42000 5292517.88700
SE_QUAD_CORNERY_XY: 284254.35600 5285572.43600
SW_QUAD_CORNER_XY: 279564.61200 5285748.49600
SECONDARY_NW_QUAD_XY: 279821.40000 5292475.22800
SECONDARY_NE_QUAD_XY: 284505.67200 5292299.19800
SECONDARY_SE_QUAD_XY: 284247.61000 5285353.76500
SECONDARY_SW_QUAD_XY: 279557.71900 5285529.83200
RMSE_XY: 1.10000
IMAGE_SOURCE: BLACK AND WHITE FILM
SOURCE_IMAGE_ID: NAPP 9132 105
SOURCE_IMAGE_DATE: 1996 07 29
SOURCE_DEM_DATE: 1964 00 00
AGENCY: WESTERN MAPPING CENTER (WMC)
PRODUCER: UNDEFINED
PRODUCTION_SYSTEM: GIS/MAGIC
COMPRESSION: UNDEFINED
STANDARD_VERSION: 1996 12
METADATA_DATE: 2000 11 15
DATA_FILE_SIZE: 43278927
BYTE_COUNT: 5601
