FILENAME: O4710717.NWS.1112639.tif
QUADRANGLE_NAME: PEA RIDGE
QUADRANT: NW
WEST_LONGITUDE: -108 0 0.00000
EAST_LONGITUDE: -107 56 15.00000
NORTH_LATITUDE: 47 45 0.00000
SOUTH_LATITUDE: 47 41 15.00000
PRODUCTION_DATE: 2000 11 3
RASTER_ORDER: LEFT_RIGHT/TOP_BOTTOM
BAND_ORGANIZATION: SINGLE FILE
BAND_CONTENT: BLACK&WHITE
BAND_CONTENT: UNDEFINED
BAND_CONTENT: UNDEFINED
BITS_PER_PIXEL: 8
SAMPLES_AND_LINES: 5607 7730
HORIZONTAL_DATUM: NAD83
HORIZONTAL_COORDINATE_SYSTEM: UTM
COORDINATE_ZONE: 13
HORIZONTAL_UNITS: METERS
HORIZONTAL_RESOLUTION: 1.00000
SECONDARY_HORIZONTAL_DATUM: NAD27
XY_ORIGIN: 274523.00000 5293176.00000
SECONDARY_XY_ORIGIN: 274566.52500 5292955.70100
NATION: US
NATION: "SCIENCE
STATE: MT
NW_QUAD_CORNER_XY: 275144.19300 5292873.72700
NE_QUAD_CORNER_XY: 279828.29400 5292693.91100
SE_QUAD_CORNERY_XY: 279564.61200 5285748.49600
SW_QUAD_CORNER_XY: 274874.89300 5285928.34900
SECONDARY_NW_QUAD_XY: 275137.15200 5292655.04900
SECONDARY_NE_QUAD_XY: 279821.40000 5292475.22800
SECONDARY_SE_QUAD_XY: 279557.71900 5285529.83200
SECONDARY_SW_QUAD_XY: 274867.85200 5285709.69000
RMSE_XY: 1.30000
IMAGE_SOURCE: BLACK AND WHITE FILM
SOURCE_IMAGE_ID: NAPP 9132 191
SOURCE_IMAGE_DATE: 1996 07 29
SOURCE_DEM_DATE: 1964 00 00
AGENCY: WESTERN MAPPING CENTER (WMC)
PRODUCER: UNDEFINED
PRODUCTION_SYSTEM: GIS/MAGIC
COMPRESSION: UNDEFINED
STANDARD_VERSION: 1996 12
METADATA_DATE: 2000 11 15
DATA_FILE_SIZE: 43347717
BYTE_COUNT: 5607
