FILENAME: O4710717.SES.1112640.tif
QUADRANGLE_NAME: PEA RIDGE
QUADRANT: SE
WEST_LONGITUDE: -107 56 15.00000
EAST_LONGITUDE: -107 52 30.00000
NORTH_LATITUDE: 47 41 15.00000
SOUTH_LATITUDE: 47 37 30.00000
PRODUCTION_DATE: 2000 11 3
RASTER_ORDER: LEFT_RIGHT/TOP_BOTTOM
BAND_ORGANIZATION: SINGLE FILE
BAND_CONTENT: BLACK&WHITE
BAND_CONTENT: UNDEFINED
BAND_CONTENT: UNDEFINED
BITS_PER_PIXEL: 8
SAMPLES_AND_LINES: 5607 7726
HORIZONTAL_DATUM: NAD83
HORIZONTAL_COORDINATE_SYSTEM: UTM
COORDINATE_ZONE: 13
HORIZONTAL_UNITS: METERS
HORIZONTAL_RESOLUTION: 1.00000
SECONDARY_HORIZONTAL_DATUM: NAD27
XY_ORIGIN: 278949.00000 5286051.00000
SECONDARY_XY_ORIGIN: 278992.52600 5285830.69900
NATION: US
NATION: "SCIENCE
STATE: MT
NW_QUAD_CORNER_XY: 279564.61200 5285748.49600
NE_QUAD_CORNER_XY: 284254.35600 5285572.43600
SE_QUAD_CORNERY_XY: 283996.55100 5278627.04200
SW_QUAD_CORNER_XY: 279301.19400 5278803.13800
SECONDARY_NW_QUAD_XY: 279557.71900 5285529.83200
SECONDARY_NE_QUAD_XY: 284247.61000 5285353.76500
SECONDARY_SE_QUAD_XY: 283989.80500 5278408.39000
SECONDARY_SW_QUAD_XY: 279294.30100 5278584.49200
RMSE_XY: 1.00000
IMAGE_SOURCE: BLACK AND WHITE FILM
SOURCE_IMAGE_ID: NAPP 9132 107
SOURCE_IMAGE_DATE: 1996 07 29
SOURCE_DEM_DATE: 1964 00 00
AGENCY: WESTERN MAPPING CENTER (WMC)
PRODUCER: UNDEFINED
PRODUCTION_SYSTEM: GIS/MAGIC
COMPRESSION: UNDEFINED
STANDARD_VERSION: 1996 12
METADATA_DATE: 2000 11 15
DATA_FILE_SIZE: 43325289
BYTE_COUNT: 5607
