FILENAME: O4710715.NES.1115016.tif
QUADRANGLE_NAME: GIBSON COULEE
QUADRANT: NE
WEST_LONGITUDE: -107 11 15.00000
EAST_LONGITUDE: -107 7 30.00000
NORTH_LATITUDE: 47 52 30.00000
SOUTH_LATITUDE: 47 48 45.00000
PRODUCTION_DATE: 2000 11 13
RASTER_ORDER: LEFT_RIGHT/TOP_BOTTOM
BAND_ORGANIZATION: SINGLE FILE
BAND_CONTENT: BLACK&WHITE
BAND_CONTENT: UNDEFINED
BAND_CONTENT: UNDEFINED
BITS_PER_PIXEL: 8
SAMPLES_AND_LINES: 5521 7681
HORIZONTAL_DATUM: NAD83
HORIZONTAL_COORDINATE_SYSTEM: UTM
COORDINATE_ZONE: 13
HORIZONTAL_UNITS: METERS
HORIZONTAL_RESOLUTION: 1.00000
SECONDARY_HORIZONTAL_DATUM: NAD27
XY_ORIGIN: 335886.00000 5305026.00000
SECONDARY_XY_ORIGIN: 335928.81500 5304805.12500
NATION: US
NATION: "SCIENCE
STATE: MT
NW_QUAD_CORNER_XY: 336432.47700 5304723.53500
NE_QUAD_CORNER_XY: 341105.61900 5304593.03600
SE_QUAD_CORNERY_XY: 340914.55800 5297647.07900
SW_QUAD_CORNER_XY: 336235.79200 5297777.60700
SECONDARY_NW_QUAD_XY: 336427.34300 5304504.75900
SECONDARY_NE_QUAD_XY: 341100.63200 5304374.25500
SECONDARY_SE_QUAD_XY: 340909.57100 5297428.31500
SECONDARY_SW_QUAD_XY: 336230.65800 5297558.84700
RMSE_XY: 2.10000
IMAGE_SOURCE: BLACK AND WHITE FILM
SOURCE_IMAGE_ID: NAPP 9101 214
SOURCE_IMAGE_DATE: 1996 07 15
SOURCE_IMAGE_ID: NAPP 9101 213
SOURCE_IMAGE_DATE: 1996 07 15
SOURCE_IMAGE_ID: NAPP 9101 212
SOURCE_IMAGE_DATE: 1996 07 15
SOURCE_DEM_DATE: 1993 00 00
AGENCY: WESTERN MAPPING CENTER (WMC)
PRODUCER: UNDEFINED
PRODUCTION_SYSTEM: GIS/MAGIC
COMPRESSION: UNDEFINED
STANDARD_VERSION: 1996 12
METADATA_DATE: 2000 11 17
DATA_FILE_SIZE: 42412322
BYTE_COUNT: 5521
