FILENAME: O4710715.SWS.1115019.tif
QUADRANGLE_NAME: GIBSON COULEE
QUADRANT: SW
WEST_LONGITUDE: -107 15 0.00000
EAST_LONGITUDE: -107 11 15.00000
NORTH_LATITUDE: 47 48 45.00000
SOUTH_LATITUDE: 47 45 0.00000
PRODUCTION_DATE: 2000 11 10
RASTER_ORDER: LEFT_RIGHT/TOP_BOTTOM
BAND_ORGANIZATION: SINGLE FILE
BAND_CONTENT: BLACK&WHITE
BAND_CONTENT: UNDEFINED
BAND_CONTENT: UNDEFINED
BITS_PER_PIXEL: 8
SAMPLES_AND_LINES: 5532 7686
HORIZONTAL_DATUM: NAD83
HORIZONTAL_COORDINATE_SYSTEM: UTM
COORDINATE_ZONE: 13
HORIZONTAL_UNITS: METERS
HORIZONTAL_RESOLUTION: 1.00000
SECONDARY_HORIZONTAL_DATUM: NAD27
XY_ORIGIN: 331005.00000 5298215.00000
SECONDARY_XY_ORIGIN: 331048.03800 5297994.12900
NATION: US
NATION: "SCIENCE
STATE: MT
NW_QUAD_CORNER_XY: 331557.04500 5297911.92100
NE_QUAD_CORNER_XY: 336235.79200 5297777.60700
SE_QUAD_CORNERY_XY: 336039.30300 5290831.74300
SW_QUAD_CORNER_XY: 331354.93700 5290966.08600
SECONDARY_NW_QUAD_XY: 331551.76400 5297693.16600
SECONDARY_NE_QUAD_XY: 336230.65800 5297558.84700
SECONDARY_SE_QUAD_XY: 336034.17000 5290613.00100
SECONDARY_SW_QUAD_XY: 331349.65700 5290747.34800
RMSE_XY: 2.10000
IMAGE_SOURCE: BLACK AND WHITE FILM
SOURCE_IMAGE_ID: NAPP 9101 251
SOURCE_IMAGE_DATE: 1996 07 15
SOURCE_DEM_DATE: 1993 00 00
AGENCY: WESTERN MAPPING CENTER (WMC)
PRODUCER: UNDEFINED
PRODUCTION_SYSTEM: GIS/MAGIC
COMPRESSION: UNDEFINED
STANDARD_VERSION: 1996 12
METADATA_DATE: 2000 11 17
DATA_FILE_SIZE: 42524484
BYTE_COUNT: 5532
