FILENAME: O4710714.SES.1114982.tif
QUADRANGLE_NAME: SMITH COULEE
QUADRANT: SE
WEST_LONGITUDE: -107 18 45.00000
EAST_LONGITUDE: -107 15 0.00000
NORTH_LATITUDE: 47 48 45.00000
SOUTH_LATITUDE: 47 45 0.00000
PRODUCTION_DATE: 2000 11 10
RASTER_ORDER: LEFT_RIGHT/TOP_BOTTOM
BAND_ORGANIZATION: SINGLE FILE
BAND_CONTENT: BLACK&WHITE
BAND_CONTENT: UNDEFINED
BAND_CONTENT: UNDEFINED
BITS_PER_PIXEL: 8
SAMPLES_AND_LINES: 5539 7689
HORIZONTAL_DATUM: NAD83
HORIZONTAL_COORDINATE_SYSTEM: UTM
COORDINATE_ZONE: 13
HORIZONTAL_UNITS: METERS
HORIZONTAL_RESOLUTION: 1.00000
SECONDARY_HORIZONTAL_DATUM: NAD27
XY_ORIGIN: 326320.00000 5298353.00000
SECONDARY_XY_ORIGIN: 326363.15300 5298132.23500
NATION: US
NATION: "SCIENCE
STATE: MT
NW_QUAD_CORNER_XY: 326878.31800 5298050.02300
NE_QUAD_CORNER_XY: 331557.04500 5297911.92100
SE_QUAD_CORNERY_XY: 331354.93700 5290966.08600
SW_QUAD_CORNER_XY: 326670.59100 5291104.21600
SECONDARY_NW_QUAD_XY: 326872.89000 5297831.27200
SECONDARY_NE_QUAD_XY: 331551.76400 5297693.16600
SECONDARY_SE_QUAD_XY: 331349.65700 5290747.34800
SECONDARY_SW_QUAD_XY: 326665.16400 5290885.48300
RMSE_XY: 1.60000
IMAGE_SOURCE: BLACK AND WHITE FILM
SOURCE_IMAGE_ID: NAPP 9127 040
SOURCE_IMAGE_DATE: 1996 07 15
SOURCE_DEM_DATE: 1972 00 00
AGENCY: WESTERN MAPPING CENTER (WMC)
PRODUCER: UNDEFINED
PRODUCTION_SYSTEM: GIS/MAGIC
COMPRESSION: UNDEFINED
STANDARD_VERSION: 1996 12
METADATA_DATE: 2000 11 17
DATA_FILE_SIZE: 42594910
BYTE_COUNT: 5539
