FILENAME: O4710713.NES.1116730.tif
QUADRANGLE_NAME: WHISKEY COULEE
QUADRANT: NE
WEST_LONGITUDE: -107 26 15.00000
EAST_LONGITUDE: -107 22 30.00000
NORTH_LATITUDE: 47 52 30.00000
SOUTH_LATITUDE: 47 48 45.00000
PRODUCTION_DATE: 2000 11 14
RASTER_ORDER: LEFT_RIGHT/TOP_BOTTOM
BAND_ORGANIZATION: SINGLE FILE
BAND_CONTENT: BLACK&WHITE
BAND_CONTENT: UNDEFINED
BAND_CONTENT: UNDEFINED
BITS_PER_PIXEL: 8
SAMPLES_AND_LINES: 5545 7697
HORIZONTAL_DATUM: NAD83
HORIZONTAL_COORDINATE_SYSTEM: UTM
COORDINATE_ZONE: 13
HORIZONTAL_UNITS: METERS
HORIZONTAL_RESOLUTION: 1.00000
SECONDARY_HORIZONTAL_DATUM: NAD27
XY_ORIGIN: 317170.00000 5305586.00000
SECONDARY_XY_ORIGIN: 317213.38900 5305365.51600
NATION: US
NATION: "SCIENCE
STATE: MT
NW_QUAD_CORNER_XY: 317740.10900 5305283.39500
NE_QUAD_CORNER_XY: 322413.17000 5305137.75100
SE_QUAD_CORNERY_XY: 322199.61000 5298191.91100
SW_QUAD_CORNER_XY: 317520.92400 5298337.58700
SECONDARY_NW_QUAD_XY: 317734.38800 5305064.63600
SECONDARY_NE_QUAD_XY: 322407.59600 5304918.98700
SECONDARY_SE_QUAD_XY: 322194.03600 5297973.16500
SECONDARY_SW_QUAD_XY: 317515.20300 5298118.84500
RMSE_XY: 2.30000
IMAGE_SOURCE: BLACK AND WHITE FILM
SOURCE_IMAGE_ID: NAPP 9127 144
SOURCE_IMAGE_DATE: 1996 07 15
SOURCE_DEM_DATE: 1972 00 00
AGENCY: WESTERN MAPPING CENTER (WMC)
PRODUCER: UNDEFINED
PRODUCTION_SYSTEM: GIS/MAGIC
COMPRESSION: UNDEFINED
STANDARD_VERSION: 1996 12
METADATA_DATE: 2000 11 30
DATA_FILE_SIZE: 42685410
BYTE_COUNT: 5545
