FILENAME: O4710713.NWS.1116731.tif
QUADRANGLE_NAME: WHISKEY COULEE
QUADRANT: NW
WEST_LONGITUDE: -107 30 0.00000
EAST_LONGITUDE: -107 26 15.00000
NORTH_LATITUDE: 47 52 30.00000
SOUTH_LATITUDE: 47 48 45.00000
PRODUCTION_DATE: 2000 11 14
RASTER_ORDER: LEFT_RIGHT/TOP_BOTTOM
BAND_ORGANIZATION: SINGLE FILE
BAND_CONTENT: BLACK&WHITE
BAND_CONTENT: UNDEFINED
BAND_CONTENT: UNDEFINED
BITS_PER_PIXEL: 8
SAMPLES_AND_LINES: 5551 7700
HORIZONTAL_DATUM: NAD83
HORIZONTAL_COORDINATE_SYSTEM: UTM
COORDINATE_ZONE: 13
HORIZONTAL_UNITS: METERS
HORIZONTAL_RESOLUTION: 1.00000
SECONDARY_HORIZONTAL_DATUM: NAD27
XY_ORIGIN: 312491.00000 5305735.00000
SECONDARY_XY_ORIGIN: 312534.52600 5305514.62000
NATION: US
NATION: "SCIENCE
STATE: MT
NW_QUAD_CORNER_XY: 313067.07000 5305432.82700
NE_QUAD_CORNER_XY: 317740.10900 5305283.39500
SE_QUAD_CORNERY_XY: 317520.92400 5298337.58700
SW_QUAD_CORNER_XY: 312842.25800 5298487.05100
SECONDARY_NW_QUAD_XY: 313061.20200 5305214.07300
SECONDARY_NE_QUAD_XY: 317734.38800 5305064.63600
SECONDARY_SE_QUAD_XY: 317515.20300 5298118.84500
SECONDARY_SW_QUAD_XY: 312836.39000 5298268.31400
RMSE_XY: 1.40000
IMAGE_SOURCE: BLACK AND WHITE FILM
SOURCE_IMAGE_ID: NAPP 9127 183
SOURCE_IMAGE_DATE: 1996 07 15
SOURCE_DEM_DATE: 1972 00 00
AGENCY: WESTERN MAPPING CENTER (WMC)
PRODUCER: UNDEFINED
PRODUCTION_SYSTEM: GIS/MAGIC
COMPRESSION: UNDEFINED
STANDARD_VERSION: 1996 12
METADATA_DATE: 2000 11 30
DATA_FILE_SIZE: 42748251
BYTE_COUNT: 5551
