FILENAME: O4710712.SES.1116700.tif
QUADRANGLE_NAME: COAL MINE HILL
QUADRANT: SE
WEST_LONGITUDE: -107 33 45.00000
EAST_LONGITUDE: -107 30 0.00000
NORTH_LATITUDE: 47 48 45.00000
SOUTH_LATITUDE: 47 45 0.00000
PRODUCTION_DATE: 2000 11 14
RASTER_ORDER: LEFT_RIGHT/TOP_BOTTOM
BAND_ORGANIZATION: SINGLE FILE
BAND_CONTENT: BLACK&WHITE
BAND_CONTENT: UNDEFINED
BAND_CONTENT: UNDEFINED
BITS_PER_PIXEL: 8
SAMPLES_AND_LINES: 5562 7704
HORIZONTAL_DATUM: NAD83
HORIZONTAL_COORDINATE_SYSTEM: UTM
COORDINATE_ZONE: 13
HORIZONTAL_UNITS: METERS
HORIZONTAL_RESOLUTION: 1.00000
SECONDARY_HORIZONTAL_DATUM: NAD27
XY_ORIGIN: 307582.00000 5298943.00000
SECONDARY_XY_ORIGIN: 307625.49900 5298722.58700
NATION: US
NATION: "SCIENCE
STATE: MT
NW_QUAD_CORNER_XY: 308163.61400 5298640.30300
NE_QUAD_CORNER_XY: 312842.25800 5298487.05100
SE_QUAD_CORNERY_XY: 312617.67000 5291541.33700
SW_QUAD_CORNER_XY: 307933.40600 5291694.62100
SECONDARY_NW_QUAD_XY: 308157.60000 5298421.57000
SECONDARY_NE_QUAD_XY: 312836.39000 5298268.31400
SECONDARY_SE_QUAD_XY: 312611.80300 5291322.61700
SECONDARY_SW_QUAD_XY: 307927.39200 5291475.90600
RMSE_XY: 1.20000
IMAGE_SOURCE: BLACK AND WHITE FILM
SOURCE_IMAGE_ID: NAPP 9127 236
SOURCE_IMAGE_DATE: 1996 07 15
SOURCE_IMAGE_ID: NAPP 9131 055
SOURCE_IMAGE_DATE: 1996 07 29
SOURCE_DEM_DATE: 1965 00 00
AGENCY: WESTERN MAPPING CENTER (WMC)
PRODUCER: UNDEFINED
PRODUCTION_SYSTEM: GIS/MAGIC
COMPRESSION: UNDEFINED
STANDARD_VERSION: 1996 12
METADATA_DATE: 2000 12 13
DATA_FILE_SIZE: 42855210
BYTE_COUNT: 5562
