FILENAME: O4710711.NWS.1116651.tif
QUADRANGLE_NAME: SUN PRAIRIE
QUADRANT: NW
WEST_LONGITUDE: -107 45 0.00000
EAST_LONGITUDE: -107 41 15.00000
NORTH_LATITUDE: 47 52 30.00000
SOUTH_LATITUDE: 47 48 45.00000
PRODUCTION_DATE: 2000 11 6
RASTER_ORDER: LEFT_RIGHT/TOP_BOTTOM
BAND_ORGANIZATION: SINGLE FILE
BAND_CONTENT: BLACK&WHITE
BAND_CONTENT: UNDEFINED
BAND_CONTENT: UNDEFINED
BITS_PER_PIXEL: 8
SAMPLES_AND_LINES: 5574 7714
HORIZONTAL_DATUM: NAD83
HORIZONTAL_COORDINATE_SYSTEM: UTM
COORDINATE_ZONE: 13
HORIZONTAL_UNITS: METERS
HORIZONTAL_RESOLUTION: 1.00000
SECONDARY_HORIZONTAL_DATUM: NAD27
XY_ORIGIN: 293776.00000 5306370.00000
SECONDARY_XY_ORIGIN: 293819.51300 5306149.79100
NATION: US
NATION: "SCIENCE
STATE: MT
NW_QUAD_CORNER_XY: 294375.14000 5306068.42900
NE_QUAD_CORNER_XY: 299048.08700 5305903.84600
SE_QUAD_CORNERY_XY: 298806.39400 5298958.17200
SW_QUAD_CORNER_XY: 294127.81900 5299122.79000
SECONDARY_NW_QUAD_XY: 294368.68500 5305849.69500
SECONDARY_NE_QUAD_XY: 299041.77900 5305685.10700
SECONDARY_SE_QUAD_XY: 298800.08600 5298739.45000
SECONDARY_SW_QUAD_XY: 294121.36400 5298904.07300
RMSE_XY: 0.70000
IMAGE_SOURCE: BLACK AND WHITE FILM
SOURCE_IMAGE_ID: NAPP 9131 195
SOURCE_IMAGE_DATE: 1996 07 29
SOURCE_DEM_DATE: 1965 00 00
AGENCY: WESTERN MAPPING CENTER (WMC)
PRODUCER: UNDEFINED
PRODUCTION_SYSTEM: GIS/MAGIC
COMPRESSION: UNDEFINED
STANDARD_VERSION: 1996 12
METADATA_DATE: 2000 11 15
DATA_FILE_SIZE: 43003410
BYTE_COUNT: 5574
