FILENAME: O4710710.SES.1112684.tif
QUADRANGLE_NAME: STRATTON RESERVOIR
QUADRANT: SE
WEST_LONGITUDE: -107 48 45.00000
EAST_LONGITUDE: -107 45 0.00000
NORTH_LATITUDE: 47 48 45.00000
SOUTH_LATITUDE: 47 45 0.00000
PRODUCTION_DATE: 2000 11 6
RASTER_ORDER: LEFT_RIGHT/TOP_BOTTOM
BAND_ORGANIZATION: SINGLE FILE
BAND_CONTENT: BLACK&WHITE
BAND_CONTENT: UNDEFINED
BAND_CONTENT: UNDEFINED
BITS_PER_PIXEL: 8
SAMPLES_AND_LINES: 5584 7718
HORIZONTAL_DATUM: NAD83
HORIZONTAL_COORDINATE_SYSTEM: UTM
COORDINATE_ZONE: 13
HORIZONTAL_UNITS: METERS
HORIZONTAL_RESOLUTION: 1.00000
SECONDARY_HORIZONTAL_DATUM: NAD27
XY_ORIGIN: 288845.00000 5299593.00000
SECONDARY_XY_ORIGIN: 288888.50600 5299372.74200
NATION: US
NATION: "SCIENCE
STATE: MT
NW_QUAD_CORNER_XY: 289449.26800 5299291.19800
NE_QUAD_CORNER_XY: 294127.81900 5299122.79000
SE_QUAD_CORNERY_XY: 293880.74400 5292177.21000
SW_QUAD_CORNER_XY: 289196.57000 5292345.65300
SECONDARY_NW_QUAD_XY: 289442.66600 5299072.48600
SECONDARY_NE_QUAD_XY: 294121.36400 5298904.07300
SECONDARY_SE_QUAD_XY: 293874.29000 5291958.51100
SECONDARY_SW_QUAD_XY: 289189.96900 5292126.95900
RMSE_XY: 0.80000
IMAGE_SOURCE: BLACK AND WHITE FILM
SOURCE_IMAGE_ID: NAPP 9131 228
SOURCE_IMAGE_DATE: 1996 07 29
SOURCE_DEM_DATE: 1965 00 00
AGENCY: WESTERN MAPPING CENTER (WMC)
PRODUCER: UNDEFINED
PRODUCTION_SYSTEM: GIS/MAGIC
COMPRESSION: UNDEFINED
STANDARD_VERSION: 1996 12
METADATA_DATE: 2000 11 15
DATA_FILE_SIZE: 43102896
BYTE_COUNT: 5584
