FILENAME: O4710710.SWS.1112685.tif
QUADRANGLE_NAME: STRATTON RESERVOIR
QUADRANT: SW
WEST_LONGITUDE: -107 52 30.00000
EAST_LONGITUDE: -107 48 45.00000
NORTH_LATITUDE: 47 48 45.00000
SOUTH_LATITUDE: 47 45 0.00000
PRODUCTION_DATE: 2000 11 6
RASTER_ORDER: LEFT_RIGHT/TOP_BOTTOM
BAND_ORGANIZATION: SINGLE FILE
BAND_CONTENT: BLACK&WHITE
BAND_CONTENT: UNDEFINED
BAND_CONTENT: UNDEFINED
BITS_PER_PIXEL: 8
SAMPLES_AND_LINES: 5590 7722
HORIZONTAL_DATUM: NAD83
HORIZONTAL_COORDINATE_SYSTEM: UTM
COORDINATE_ZONE: 13
HORIZONTAL_UNITS: METERS
HORIZONTAL_RESOLUTION: 1.00000
SECONDARY_HORIZONTAL_DATUM: NAD27
XY_ORIGIN: 284161.00000 5299765.00000
SECONDARY_XY_ORIGIN: 284204.51400 5299544.72400
NATION: US
NATION: "SCIENCE
STATE: MT
NW_QUAD_CORNER_XY: 284770.74100 5299463.39500
NE_QUAD_CORNER_XY: 289449.26800 5299291.19800
SE_QUAD_CORNERY_XY: 289196.57000 5292345.65300
SW_QUAD_CORNER_XY: 284512.42000 5292517.88700
SECONDARY_NW_QUAD_XY: 284763.99300 5299244.68800
SECONDARY_NE_QUAD_XY: 289442.66600 5299072.48600
SECONDARY_SE_QUAD_XY: 289189.96900 5292126.95900
SECONDARY_SW_QUAD_XY: 284505.67200 5292299.19800
RMSE_XY: 0.80000
IMAGE_SOURCE: BLACK AND WHITE FILM
SOURCE_IMAGE_ID: NAPP 9132 080
SOURCE_IMAGE_DATE: 1996 07 29
SOURCE_IMAGE_ID: NAPP 9132 078
SOURCE_IMAGE_DATE: 1996 07 29
SOURCE_DEM_DATE: 1965 00 00
AGENCY: WESTERN MAPPING CENTER (WMC)
PRODUCER: UNDEFINED
PRODUCTION_SYSTEM: GIS/MAGIC
COMPRESSION: UNDEFINED
STANDARD_VERSION: 1996 12
METADATA_DATE: 2000 11 15
DATA_FILE_SIZE: 43171570
BYTE_COUNT: 5590
