FILENAME: O4710708.NWS.1112219.tif
QUADRANGLE_NAME: TRIPLE CROSSING RESERVOIR EAST
QUADRANT: NW
WEST_LONGITUDE: -107 7 30.00000
EAST_LONGITUDE: -107 3 45.00000
NORTH_LATITUDE: 48 0 0.00000
SOUTH_LATITUDE: 47 56 15.00000
PRODUCTION_DATE: 2000 11 14
RASTER_ORDER: LEFT_RIGHT/TOP_BOTTOM
BAND_ORGANIZATION: SINGLE FILE
BAND_CONTENT: BLACK&WHITE
BAND_CONTENT: UNDEFINED
BAND_CONTENT: UNDEFINED
BITS_PER_PIXEL: 8
SAMPLES_AND_LINES: 5504 7678
HORIZONTAL_DATUM: NAD83
HORIZONTAL_COORDINATE_SYSTEM: UTM
COORDINATE_ZONE: 13
HORIZONTAL_UNITS: METERS
HORIZONTAL_RESOLUTION: 1.00000
SECONDARY_HORIZONTAL_DATUM: NAD27
XY_ORIGIN: 340948.00000 5318788.00000
SECONDARY_XY_ORIGIN: 340990.46000 5318567.07900
NATION: US
NATION: "SCIENCE
STATE: MT
NW_QUAD_CORNER_XY: 341488.31300 5318485.14600
NE_QUAD_CORNER_XY: 346150.20900 5318358.48800
SE_QUAD_CORNERY_XY: 345964.40200 5311412.37100
SW_QUAD_CORNER_XY: 341296.87100 5311539.05800
SECONDARY_NW_QUAD_XY: 341483.32400 5318266.33400
SECONDARY_NE_QUAD_XY: 346145.36700 5318139.67200
SECONDARY_SE_QUAD_XY: 345959.56100 5311193.57100
SECONDARY_SW_QUAD_XY: 341291.88300 5311320.26100
RMSE_XY: 1.60000
IMAGE_SOURCE: BLACK AND WHITE FILM
SOURCE_IMAGE_ID: NAPP 9101 141
SOURCE_IMAGE_DATE: 1996 07 15
SOURCE_DEM_DATE: 1973 00 00
AGENCY: WESTERN MAPPING CENTER (WMC)
PRODUCER: UNDEFINED
PRODUCTION_SYSTEM: GIS/MAGIC
COMPRESSION: UNDEFINED
STANDARD_VERSION: 1996 12
METADATA_DATE: 2000 11 17
DATA_FILE_SIZE: 42265216
BYTE_COUNT: 5504
