FILENAME: O4710707.SES.1115014.tif
QUADRANGLE_NAME: TRIPLE CROSSING RESERVOIR WEST
QUADRANT: SE
WEST_LONGITUDE: -107 11 15.00000
EAST_LONGITUDE: -107 7 30.00000
NORTH_LATITUDE: 47 56 15.00000
SOUTH_LATITUDE: 47 52 30.00000
PRODUCTION_DATE: 2000 11 13
RASTER_ORDER: LEFT_RIGHT/TOP_BOTTOM
BAND_ORGANIZATION: SINGLE FILE
BAND_CONTENT: BLACK&WHITE
BAND_CONTENT: UNDEFINED
BAND_CONTENT: UNDEFINED
BITS_PER_PIXEL: 8
SAMPLES_AND_LINES: 5515 7681
HORIZONTAL_DATUM: NAD83
HORIZONTAL_COORDINATE_SYSTEM: UTM
COORDINATE_ZONE: 13
HORIZONTAL_UNITS: METERS
HORIZONTAL_RESOLUTION: 1.00000
SECONDARY_HORIZONTAL_DATUM: NAD27
XY_ORIGIN: 336083.00000 5311972.00000
SECONDARY_XY_ORIGIN: 336125.74100 5311751.16100
NATION: US
NATION: "SCIENCE
STATE: MT
NW_QUAD_CORNER_XY: 336629.35900 5311669.52900
NE_QUAD_CORNER_XY: 341296.87100 5311539.05800
SE_QUAD_CORNERY_XY: 341105.61900 5304593.03600
SW_QUAD_CORNER_XY: 336432.47700 5304723.53500
SECONDARY_NW_QUAD_XY: 336624.22400 5311450.73600
SECONDARY_NE_QUAD_XY: 341291.88300 5311320.26100
SECONDARY_SE_QUAD_XY: 341100.63200 5304374.25500
SECONDARY_SW_QUAD_XY: 336427.34300 5304504.75900
RMSE_XY: 1.10000
IMAGE_SOURCE: BLACK AND WHITE FILM
SOURCE_IMAGE_ID: NAPP 9101 212
SOURCE_IMAGE_DATE: 1996 07 15
SOURCE_DEM_DATE: 1973 00 00
AGENCY: WESTERN MAPPING CENTER (WMC)
PRODUCER: UNDEFINED
PRODUCTION_SYSTEM: GIS/MAGIC
COMPRESSION: UNDEFINED
STANDARD_VERSION: 1996 12
METADATA_DATE: 2000 11 17
DATA_FILE_SIZE: 42366230
BYTE_COUNT: 5515
