FILENAME: O4710707.SWS.1115015.tif
QUADRANGLE_NAME: TRIPLE CROSSING RESERVOIR WEST
QUADRANT: SW
WEST_LONGITUDE: -107 15 0.00000
EAST_LONGITUDE: -107 11 15.00000
NORTH_LATITUDE: 47 56 15.00000
SOUTH_LATITUDE: 47 52 30.00000
PRODUCTION_DATE: 2000 11 10
RASTER_ORDER: LEFT_RIGHT/TOP_BOTTOM
BAND_ORGANIZATION: SINGLE FILE
BAND_CONTENT: BLACK&WHITE
BAND_CONTENT: UNDEFINED
BAND_CONTENT: UNDEFINED
BITS_PER_PIXEL: 8
SAMPLES_AND_LINES: 5521 7685
HORIZONTAL_DATUM: NAD83
HORIZONTAL_COORDINATE_SYSTEM: UTM
COORDINATE_ZONE: 13
HORIZONTAL_UNITS: METERS
HORIZONTAL_RESOLUTION: 1.00000
SECONDARY_HORIZONTAL_DATUM: NAD27
XY_ORIGIN: 331410.00000 5312106.00000
SECONDARY_XY_ORIGIN: 331452.92900 5311885.25300
NATION: US
NATION: "SCIENCE
STATE: MT
NW_QUAD_CORNER_XY: 331961.86600 5311803.78500
NE_QUAD_CORNER_XY: 336629.35900 5311669.52900
SE_QUAD_CORNERY_XY: 336432.47700 5304723.53500
SW_QUAD_CORNER_XY: 331759.35500 5304857.82100
SECONDARY_NW_QUAD_XY: 331956.58400 5311584.99700
SECONDARY_NE_QUAD_XY: 336624.22400 5311450.73600
SECONDARY_SE_QUAD_XY: 336427.34300 5304504.75900
SECONDARY_SW_QUAD_XY: 331754.07400 5304639.04900
RMSE_XY: 1.10000
IMAGE_SOURCE: BLACK AND WHITE FILM
SOURCE_IMAGE_ID: NAPP 9101 255
SOURCE_IMAGE_DATE: 1996 07 15
SOURCE_IMAGE_ID: NAPP 9101 253
SOURCE_IMAGE_DATE: 1996 07 15
SOURCE_IMAGE_ID: NAPP 9101 254
SOURCE_IMAGE_DATE: 1996 07 15
SOURCE_DEM_DATE: 1973 00 00
AGENCY: WESTERN MAPPING CENTER (WMC)
PRODUCER: UNDEFINED
PRODUCTION_SYSTEM: GIS/MAGIC
COMPRESSION: UNDEFINED
STANDARD_VERSION: 1996 12
METADATA_DATE: 2000 11 17
DATA_FILE_SIZE: 42434406
BYTE_COUNT: 5521
