FILENAME: O4710706.NES.1116584.tif
QUADRANGLE_NAME: NILES COULEE
QUADRANT: NE
WEST_LONGITUDE: -107 18 45.00000
EAST_LONGITUDE: -107 15 0.00000
NORTH_LATITUDE: 48 0 0.00000
SOUTH_LATITUDE: 47 56 15.00000
PRODUCTION_DATE: 2000 11 14
RASTER_ORDER: LEFT_RIGHT/TOP_BOTTOM
BAND_ORGANIZATION: SINGLE FILE
BAND_CONTENT: BLACK&WHITE
BAND_CONTENT: UNDEFINED
BAND_CONTENT: UNDEFINED
BITS_PER_PIXEL: 8
SAMPLES_AND_LINES: 5522 7689
HORIZONTAL_DATUM: NAD83
HORIZONTAL_COORDINATE_SYSTEM: UTM
COORDINATE_ZONE: 13
HORIZONTAL_UNITS: METERS
HORIZONTAL_RESOLUTION: 1.00000
SECONDARY_HORIZONTAL_DATUM: NAD27
XY_ORIGIN: 326944.00000 5319190.00000
SECONDARY_XY_ORIGIN: 326987.04300 5318969.44900
NATION: US
NATION: "SCIENCE
STATE: MT
NW_QUAD_CORNER_XY: 327502.74300 5318887.82400
NE_QUAD_CORNER_XY: 332164.57900 5318749.81300
SE_QUAD_CORNERY_XY: 331961.86600 5311803.78500
SW_QUAD_CORNER_XY: 327294.39400 5311941.82600
SECONDARY_NW_QUAD_XY: 327497.31400 5318669.02500
SECONDARY_NE_QUAD_XY: 332159.29700 5318531.01000
SECONDARY_SE_QUAD_XY: 331956.58400 5311584.99700
SECONDARY_SW_QUAD_XY: 327288.96600 5311723.04200
RMSE_XY: 1.30000
IMAGE_SOURCE: BLACK AND WHITE FILM
SOURCE_IMAGE_ID: NAPP 9127 034
SOURCE_IMAGE_DATE: 1996 07 15
SOURCE_DEM_DATE: 1973 00 00
AGENCY: WESTERN MAPPING CENTER (WMC)
PRODUCER: UNDEFINED
PRODUCTION_SYSTEM: GIS/MAGIC
COMPRESSION: UNDEFINED
STANDARD_VERSION: 1996 12
METADATA_DATE: 2000 11 30
DATA_FILE_SIZE: 42464180
BYTE_COUNT: 5522
