FILENAME: O4710706.SES.1114978.tif
QUADRANGLE_NAME: NILES COULEE
QUADRANT: SE
WEST_LONGITUDE: -107 18 45.00000
EAST_LONGITUDE: -107 15 0.00000
NORTH_LATITUDE: 47 56 15.00000
SOUTH_LATITUDE: 47 52 30.00000
PRODUCTION_DATE: 2000 11 10
RASTER_ORDER: LEFT_RIGHT/TOP_BOTTOM
BAND_ORGANIZATION: SINGLE FILE
BAND_CONTENT: BLACK&WHITE
BAND_CONTENT: UNDEFINED
BAND_CONTENT: UNDEFINED
BITS_PER_PIXEL: 8
SAMPLES_AND_LINES: 5527 7689
HORIZONTAL_DATUM: NAD83
HORIZONTAL_COORDINATE_SYSTEM: UTM
COORDINATE_ZONE: 13
HORIZONTAL_UNITS: METERS
HORIZONTAL_RESOLUTION: 1.00000
SECONDARY_HORIZONTAL_DATUM: NAD27
XY_ORIGIN: 326736.00000 5312244.00000
SECONDARY_XY_ORIGIN: 326779.08000 5312023.37700
NATION: US
NATION: "SCIENCE
STATE: MT
NW_QUAD_CORNER_XY: 327294.39400 5311941.82600
NE_QUAD_CORNER_XY: 331961.86600 5311803.78500
SE_QUAD_CORNERY_XY: 331759.35500 5304857.82100
SW_QUAD_CORNER_XY: 327086.25200 5304995.89300
SECONDARY_NW_QUAD_XY: 327288.96600 5311723.04200
SECONDARY_NE_QUAD_XY: 331956.58400 5311584.99700
SECONDARY_SE_QUAD_XY: 331754.07400 5304639.04900
SECONDARY_SW_QUAD_XY: 327080.82400 5304777.12500
RMSE_XY: 1.80000
IMAGE_SOURCE: BLACK AND WHITE FILM
SOURCE_IMAGE_ID: NAPP 9127 036
SOURCE_IMAGE_DATE: 1996 07 15
SOURCE_DEM_DATE: 1973 00 00
AGENCY: WESTERN MAPPING CENTER (WMC)
PRODUCER: UNDEFINED
PRODUCTION_SYSTEM: GIS/MAGIC
COMPRESSION: UNDEFINED
STANDARD_VERSION: 1996 12
METADATA_DATE: 2000 11 17
DATA_FILE_SIZE: 42502630
BYTE_COUNT: 5527
