FILENAME: O4710705.NWS.1116743.tif
QUADRANGLE_NAME: WHITE HORSE COULEE
QUADRANT: NW
WEST_LONGITUDE: -107 30 0.00000
EAST_LONGITUDE: -107 26 15.00000
NORTH_LATITUDE: 48 0 0.00000
SOUTH_LATITUDE: 47 56 15.00000
PRODUCTION_DATE: 2000 11 14
RASTER_ORDER: LEFT_RIGHT/TOP_BOTTOM
BAND_ORGANIZATION: SINGLE FILE
BAND_CONTENT: BLACK&WHITE
BAND_CONTENT: UNDEFINED
BAND_CONTENT: UNDEFINED
BITS_PER_PIXEL: 8
SAMPLES_AND_LINES: 5540 7699
HORIZONTAL_DATUM: NAD83
HORIZONTAL_COORDINATE_SYSTEM: UTM
COORDINATE_ZONE: 13
HORIZONTAL_UNITS: METERS
HORIZONTAL_RESOLUTION: 1.00000
SECONDARY_HORIZONTAL_DATUM: NAD27
XY_ORIGIN: 312941.00000 5319626.00000
SECONDARY_XY_ORIGIN: 312984.56000 5319405.82600
NATION: US
NATION: "SCIENCE
STATE: MT
NW_QUAD_CORNER_XY: 313517.36500 5319324.56300
NE_QUAD_CORNER_XY: 318179.13500 5319175.19800
SE_QUAD_CORNERY_XY: 317959.51300 5312229.26600
SW_QUAD_CORNER_XY: 313292.10600 5312378.66400
SECONDARY_NW_QUAD_XY: 313511.49600 5319105.77800
SECONDARY_NE_QUAD_XY: 318173.41300 5318956.40800
SECONDARY_SE_QUAD_XY: 317953.79100 5312010.49100
SECONDARY_SW_QUAD_XY: 313286.23700 5312159.89400
RMSE_XY: 1.10000
IMAGE_SOURCE: BLACK AND WHITE FILM
SOURCE_IMAGE_ID: NAPP 9127 187
SOURCE_IMAGE_DATE: 1996 07 15
SOURCE_DEM_DATE: 1972 00 00
AGENCY: WESTERN MAPPING CENTER (WMC)
PRODUCER: UNDEFINED
PRODUCTION_SYSTEM: GIS/MAGIC
COMPRESSION: UNDEFINED
STANDARD_VERSION: 1996 12
METADATA_DATE: 2000 11 15
DATA_FILE_SIZE: 42658000
BYTE_COUNT: 5540
