FILENAME: O4710704.NES.1116694.tif
QUADRANGLE_NAME: BUCKLEY LAKE
QUADRANT: NE
WEST_LONGITUDE: -107 33 45.00000
EAST_LONGITUDE: -107 30 0.00000
NORTH_LATITUDE: 48 0 0.00000
SOUTH_LATITUDE: 47 56 15.00000
PRODUCTION_DATE: 2000 11 14
RASTER_ORDER: LEFT_RIGHT/TOP_BOTTOM
BAND_ORGANIZATION: SINGLE FILE
BAND_CONTENT: BLACK&WHITE
BAND_CONTENT: UNDEFINED
BAND_CONTENT: UNDEFINED
BITS_PER_PIXEL: 8
SAMPLES_AND_LINES: 5545 7704
HORIZONTAL_DATUM: NAD83
HORIZONTAL_COORDINATE_SYSTEM: UTM
COORDINATE_ZONE: 13
HORIZONTAL_UNITS: METERS
HORIZONTAL_RESOLUTION: 1.00000
SECONDARY_HORIZONTAL_DATUM: NAD27
XY_ORIGIN: 308274.00000 5319780.00000
SECONDARY_XY_ORIGIN: 308317.54600 5319559.82400
NATION: US
NATION: "SCIENCE
STATE: MT
NW_QUAD_CORNER_XY: 308855.61800 5319477.71400
NE_QUAD_CORNER_XY: 313517.36500 5319324.56300
SE_QUAD_CORNERY_XY: 313292.10600 5312378.66400
SW_QUAD_CORNER_XY: 308624.72100 5312531.84900
SECONDARY_NW_QUAD_XY: 308849.60200 5319258.93300
SECONDARY_NE_QUAD_XY: 313511.49600 5319105.77800
SECONDARY_SE_QUAD_XY: 313286.23700 5312159.89400
SECONDARY_SW_QUAD_XY: 308618.70500 5312313.08400
RMSE_XY: 1.00000
IMAGE_SOURCE: BLACK AND WHITE FILM
SOURCE_IMAGE_ID: NAPP 9127 230
SOURCE_IMAGE_DATE: 1996 07 15
SOURCE_DEM_DATE: 1965 00 00
AGENCY: WESTERN MAPPING CENTER (WMC)
PRODUCER: UNDEFINED
PRODUCTION_SYSTEM: GIS/MAGIC
COMPRESSION: UNDEFINED
STANDARD_VERSION: 1996 12
METADATA_DATE: 2000 12 13
DATA_FILE_SIZE: 42724225
BYTE_COUNT: 5545
