FILENAME: O4710704.NWS.1116695.tif
QUADRANGLE_NAME: BUCKLEY LAKE
QUADRANT: NW
WEST_LONGITUDE: -107 37 30.00000
EAST_LONGITUDE: -107 33 45.00000
NORTH_LATITUDE: 48 0 0.00000
SOUTH_LATITUDE: 47 56 15.00000
PRODUCTION_DATE: 2000 11 14
RASTER_ORDER: LEFT_RIGHT/TOP_BOTTOM
BAND_ORGANIZATION: SINGLE FILE
BAND_CONTENT: BLACK&WHITE
BAND_CONTENT: UNDEFINED
BAND_CONTENT: UNDEFINED
BITS_PER_PIXEL: 8
SAMPLES_AND_LINES: 5551 7708
HORIZONTAL_DATUM: NAD83
HORIZONTAL_COORDINATE_SYSTEM: UTM
COORDINATE_ZONE: 13
HORIZONTAL_UNITS: METERS
HORIZONTAL_RESOLUTION: 1.00000
SECONDARY_HORIZONTAL_DATUM: NAD27
XY_ORIGIN: 303606.00000 5319937.00000
SECONDARY_XY_ORIGIN: 303649.54600 5319716.82500
NATION: US
NATION: "SCIENCE
STATE: MT
NW_QUAD_CORNER_XY: 304193.89400 5319634.65000
NE_QUAD_CORNER_XY: 308855.61800 5319477.71400
SE_QUAD_CORNERY_XY: 308624.72100 5312531.84900
SW_QUAD_CORNER_XY: 303957.35900 5312688.82100
SECONDARY_NW_QUAD_XY: 304187.73100 5319415.87500
SECONDARY_NE_QUAD_XY: 308849.60200 5319258.93300
SECONDARY_SE_QUAD_XY: 308618.70500 5312313.08400
SECONDARY_SW_QUAD_XY: 303951.19700 5312470.06100
RMSE_XY: 1.00000
IMAGE_SOURCE: BLACK AND WHITE FILM
SOURCE_IMAGE_ID: NAPP 9131 060
SOURCE_IMAGE_DATE: 1996 07 29
SOURCE_DEM_DATE: 1965 00 00
AGENCY: WESTERN MAPPING CENTER (WMC)
PRODUCER: UNDEFINED
PRODUCTION_SYSTEM: GIS/MAGIC
COMPRESSION: UNDEFINED
STANDARD_VERSION: 1996 12
METADATA_DATE: 2000 12 13
DATA_FILE_SIZE: 42792659
BYTE_COUNT: 5551
