FILENAME: O4710704.SWS.1116697.tif
QUADRANGLE_NAME: BUCKLEY LAKE
QUADRANT: SW
WEST_LONGITUDE: -107 37 30.00000
EAST_LONGITUDE: -107 33 45.00000
NORTH_LATITUDE: 47 56 15.00000
SOUTH_LATITUDE: 47 52 30.00000
PRODUCTION_DATE: 2000 11 14
RASTER_ORDER: LEFT_RIGHT/TOP_BOTTOM
BAND_ORGANIZATION: SINGLE FILE
BAND_CONTENT: BLACK&WHITE
BAND_CONTENT: UNDEFINED
BAND_CONTENT: UNDEFINED
BITS_PER_PIXEL: 8
SAMPLES_AND_LINES: 5556 7707
HORIZONTAL_DATUM: NAD83
HORIZONTAL_COORDINATE_SYSTEM: UTM
COORDINATE_ZONE: 13
HORIZONTAL_UNITS: METERS
HORIZONTAL_RESOLUTION: 1.00000
SECONDARY_HORIZONTAL_DATUM: NAD27
XY_ORIGIN: 303370.00000 5312991.00000
SECONDARY_XY_ORIGIN: 303413.53000 5312770.76600
NATION: US
NATION: "SCIENCE
STATE: MT
NW_QUAD_CORNER_XY: 303957.35900 5312688.82100
NE_QUAD_CORNER_XY: 308624.72100 5312531.84900
SE_QUAD_CORNERY_XY: 308394.05300 5305586.04600
SW_QUAD_CORNER_XY: 303721.05800 5305743.05200
SECONDARY_NW_QUAD_XY: 303951.19700 5312470.06100
SECONDARY_NE_QUAD_XY: 308618.70500 5312313.08400
SECONDARY_SE_QUAD_XY: 308388.03800 5305367.29600
SECONDARY_SW_QUAD_XY: 303714.89700 5305524.30800
RMSE_XY: 0.80000
IMAGE_SOURCE: BLACK AND WHITE FILM
SOURCE_IMAGE_ID: NAPP 9131 058
SOURCE_IMAGE_DATE: 1996 07 29
SOURCE_DEM_DATE: 1965 00 00
AGENCY: WESTERN MAPPING CENTER (WMC)
PRODUCER: UNDEFINED
PRODUCTION_SYSTEM: GIS/MAGIC
COMPRESSION: UNDEFINED
STANDARD_VERSION: 1996 12
METADATA_DATE: 2000 12 13
DATA_FILE_SIZE: 42825648
BYTE_COUNT: 5556
