FILENAME: O4710703.NES.1116646.tif
QUADRANGLE_NAME: SHEEP COULEE
QUADRANT: NE
WEST_LONGITUDE: -107 41 15.00000
EAST_LONGITUDE: -107 37 30.00000
NORTH_LATITUDE: 48 0 0.00000
SOUTH_LATITUDE: 47 56 15.00000
PRODUCTION_DATE: 2000 11 6
RASTER_ORDER: LEFT_RIGHT/TOP_BOTTOM
BAND_ORGANIZATION: SINGLE FILE
BAND_CONTENT: BLACK&WHITE
BAND_CONTENT: UNDEFINED
BAND_CONTENT: UNDEFINED
BITS_PER_PIXEL: 8
SAMPLES_AND_LINES: 5556 7711
HORIZONTAL_DATUM: NAD83
HORIZONTAL_COORDINATE_SYSTEM: UTM
COORDINATE_ZONE: 13
HORIZONTAL_UNITS: METERS
HORIZONTAL_RESOLUTION: 1.00000
SECONDARY_HORIZONTAL_DATUM: NAD27
XY_ORIGIN: 298939.00000 5320097.00000
SECONDARY_XY_ORIGIN: 298982.54700 5319876.82600
NATION: US
NATION: "SCIENCE
STATE: MT
NW_QUAD_CORNER_XY: 299532.19500 5319795.37300
NE_QUAD_CORNER_XY: 304193.89400 5319634.65000
SE_QUAD_CORNERY_XY: 303957.35900 5312688.82100
SW_QUAD_CORNER_XY: 299290.02100 5312849.58000
SECONDARY_NW_QUAD_XY: 299525.88600 5319576.60200
SECONDARY_NE_QUAD_XY: 304187.73100 5319415.87500
SECONDARY_SE_QUAD_XY: 303951.19700 5312470.06100
SECONDARY_SW_QUAD_XY: 299283.71200 5312630.82400
RMSE_XY: 0.70000
IMAGE_SOURCE: BLACK AND WHITE FILM
SOURCE_IMAGE_ID: NAPP 9131 096
SOURCE_IMAGE_DATE: 1996 07 29
SOURCE_DEM_DATE: 1965 00 00
AGENCY: WESTERN MAPPING CENTER (WMC)
PRODUCER: UNDEFINED
PRODUCTION_SYSTEM: GIS/MAGIC
COMPRESSION: UNDEFINED
STANDARD_VERSION: 1996 12
METADATA_DATE: 2000 11 15
DATA_FILE_SIZE: 42847872
BYTE_COUNT: 5556
