FILENAME: O4710703.SWS.1116649.tif
QUADRANGLE_NAME: SHEEP COULEE
QUADRANT: SW
WEST_LONGITUDE: -107 45 0.00000
EAST_LONGITUDE: -107 41 15.00000
NORTH_LATITUDE: 47 56 15.00000
SOUTH_LATITUDE: 47 52 30.00000
PRODUCTION_DATE: 2000 11 6
RASTER_ORDER: LEFT_RIGHT/TOP_BOTTOM
BAND_ORGANIZATION: SINGLE FILE
BAND_CONTENT: BLACK&WHITE
BAND_CONTENT: UNDEFINED
BAND_CONTENT: UNDEFINED
BITS_PER_PIXEL: 8
SAMPLES_AND_LINES: 5568 7715
HORIZONTAL_DATUM: NAD83
HORIZONTAL_COORDINATE_SYSTEM: UTM
COORDINATE_ZONE: 13
HORIZONTAL_UNITS: METERS
HORIZONTAL_RESOLUTION: 1.00000
SECONDARY_HORIZONTAL_DATUM: NAD27
XY_ORIGIN: 294024.00000 5313316.00000
SECONDARY_XY_ORIGIN: 294067.53000 5313095.80800
NATION: US
NATION: "SCIENCE
STATE: MT
NW_QUAD_CORNER_XY: 294622.70800 5313014.12600
NE_QUAD_CORNER_XY: 299290.02100 5312849.58000
SE_QUAD_CORNERY_XY: 299048.08700 5305903.84600
SW_QUAD_CORNER_XY: 294375.14000 5306068.42900
SECONDARY_NW_QUAD_XY: 294616.25200 5312795.37600
SECONDARY_NE_QUAD_XY: 299283.71200 5312630.82400
SECONDARY_SE_QUAD_XY: 299041.77900 5305685.10700
SECONDARY_SW_QUAD_XY: 294368.68500 5305849.69500
RMSE_XY: 0.60000
IMAGE_SOURCE: BLACK AND WHITE FILM
SOURCE_IMAGE_ID: NAPP 9131 197
SOURCE_IMAGE_DATE: 1996 07 29
SOURCE_DEM_DATE: 1965 00 00
AGENCY: WESTERN MAPPING CENTER (WMC)
PRODUCER: UNDEFINED
PRODUCTION_SYSTEM: GIS/MAGIC
COMPRESSION: UNDEFINED
STANDARD_VERSION: 1996 12
METADATA_DATE: 2000 11 15
DATA_FILE_SIZE: 42962688
BYTE_COUNT: 5568
