FILENAME: O4710702.NES.1112694.tif
QUADRANGLE_NAME: WHITCOMB LAKE
QUADRANT: NE
WEST_LONGITUDE: -107 48 45.00000
EAST_LONGITUDE: -107 45 0.00000
NORTH_LATITUDE: 48 0 0.00000
SOUTH_LATITUDE: 47 56 15.00000
PRODUCTION_DATE: 2000 11 6
RASTER_ORDER: LEFT_RIGHT/TOP_BOTTOM
BAND_ORGANIZATION: SINGLE FILE
BAND_CONTENT: BLACK&WHITE
BAND_CONTENT: UNDEFINED
BAND_CONTENT: UNDEFINED
BITS_PER_PIXEL: 8
SAMPLES_AND_LINES: 5568 7718
HORIZONTAL_DATUM: NAD83
HORIZONTAL_COORDINATE_SYSTEM: UTM
COORDINATE_ZONE: 13
HORIZONTAL_UNITS: METERS
HORIZONTAL_RESOLUTION: 1.00000
SECONDARY_HORIZONTAL_DATUM: NAD27
XY_ORIGIN: 289604.00000 5320430.00000
SECONDARY_XY_ORIGIN: 289647.54900 5320209.77600
NATION: US
NATION: "SCIENCE
STATE: MT
NW_QUAD_CORNER_XY: 290208.87200 5320128.17700
NE_QUAD_CORNER_XY: 294870.52100 5319959.88200
SE_QUAD_CORNERY_XY: 294622.70800 5313014.12600
SW_QUAD_CORNER_XY: 289955.41900 5313182.46000
SECONDARY_NW_QUAD_XY: 290202.26900 5319909.41700
SECONDARY_NE_QUAD_XY: 294864.06500 5319741.11600
SECONDARY_SE_QUAD_XY: 294616.25200 5312795.37600
SECONDARY_SW_QUAD_XY: 289948.81700 5312963.71500
RMSE_XY: 0.70000
IMAGE_SOURCE: BLACK AND WHITE FILM
SOURCE_IMAGE_ID: NAPP 9131 222
SOURCE_IMAGE_DATE: 1996 07 29
SOURCE_DEM_DATE: 1965 00 00
AGENCY: WESTERN MAPPING CENTER (WMC)
PRODUCER: UNDEFINED
PRODUCTION_SYSTEM: GIS/MAGIC
COMPRESSION: UNDEFINED
STANDARD_VERSION: 1996 12
METADATA_DATE: 2000 11 15
DATA_FILE_SIZE: 42979392
BYTE_COUNT: 5568
